BEGIN:VCALENDAR
VERSION:2.0
PRODID:-//Pender Chamber - ECPv6.15.20//NONSGML v1.0//EN
CALSCALE:GREGORIAN
METHOD:PUBLISH
X-WR-CALNAME:Pender Chamber
X-ORIGINAL-URL:https://staging.penderislandchamber.com
X-WR-CALDESC:Events for Pender Chamber
REFRESH-INTERVAL;VALUE=DURATION:PT1H
X-Robots-Tag:noindex
X-PUBLISHED-TTL:PT1H
BEGIN:VTIMEZONE
TZID:America/Vancouver
BEGIN:DAYLIGHT
TZOFFSETFROM:-0800
TZOFFSETTO:-0700
TZNAME:PDT
DTSTART:20260308T100000
END:DAYLIGHT
BEGIN:STANDARD
TZOFFSETFROM:-0700
TZOFFSETTO:-0800
TZNAME:PST
DTSTART:20261101T090000
END:STANDARD
BEGIN:DAYLIGHT
TZOFFSETFROM:-0800
TZOFFSETTO:-0700
TZNAME:PDT
DTSTART:20270314T100000
END:DAYLIGHT
BEGIN:STANDARD
TZOFFSETFROM:-0700
TZOFFSETTO:-0800
TZNAME:PST
DTSTART:20271107T090000
END:STANDARD
BEGIN:DAYLIGHT
TZOFFSETFROM:-0800
TZOFFSETTO:-0700
TZNAME:PDT
DTSTART:20280312T100000
END:DAYLIGHT
BEGIN:STANDARD
TZOFFSETFROM:-0700
TZOFFSETTO:-0800
TZNAME:PST
DTSTART:20281105T090000
END:STANDARD
END:VTIMEZONE
BEGIN:VEVENT
DTSTART;TZID=America/Vancouver:20270618T100000
DTEND;TZID=America/Vancouver:20270618T130000
DTSTAMP:20260423T004038
CREATED:20260318T231119Z
LAST-MODIFIED:20260409T223056Z
UID:10000618-1813312800-1813323600@staging.penderislandchamber.com
SUMMARY:Community Gathering Lunch
DESCRIPTION:Mondays at the Community Hall. Engaging seniors and friends in our community. Various weekly activities with lunch at 12PM. Check the Pender Post for more details. Mondays at the Community Hall. Engaging seniors and friends in our community. Various weekly activities with lunch at 12PM. Check the Pender Post for more details. Mondays at the Community Hall. Engaging seniors and friends in our community. Various weekly activities with lunch at 12PM. Check the Pender Post for more details. Mondays at the Community Hall. Engaging seniors and friends in our community. Various weekly activities with lunch at 12PM. Check the Pender Post for more details.
URL:https://staging.penderislandchamber.com/event/community-gathering-lunch-2/2027-06-18/
LOCATION:Community Hall\, 4418 Bedwell Harbour Rd\, Pender Island\, BC\, V0N 2M1\, Canada
END:VEVENT
BEGIN:VEVENT
DTSTART;TZID=America/Vancouver:20270619T093000
DTEND;TZID=America/Vancouver:20270619T130000
DTSTAMP:20260423T004038
CREATED:20260421T210629Z
LAST-MODIFIED:20260421T210630Z
UID:10000356-1813397400-1813410000@staging.penderislandchamber.com
SUMMARY:Saturday Market
DESCRIPTION:Browse local goods\, fresh foods\, and handmade items at the seasonal market.
URL:https://staging.penderislandchamber.com/event/winter-market-2-2/2027-06-19/
END:VEVENT
BEGIN:VEVENT
DTSTART;TZID=America/Vancouver:20270619T160000
DTEND;TZID=America/Vancouver:20270619T180000
DTSTAMP:20260423T004038
CREATED:20260318T230821Z
LAST-MODIFIED:20260318T235545Z
UID:10000095-1813420800-1813428000@staging.penderislandchamber.com
SUMMARY:Legion Meat Draws
DESCRIPTION:Try your luck at the Legion’s classic meat draws and enjoy a lively afternoon.
URL:https://staging.penderislandchamber.com/event/legion-meat-draws/2027-06-19/
LOCATION:Pender Island Royal Canadian Legion\, 1344 MacKinnon Rd\, Pender Island\, BC\, V0N 2M1\, Canada
END:VEVENT
BEGIN:VEVENT
DTSTART;TZID=America/Vancouver:20270621T100000
DTEND;TZID=America/Vancouver:20270621T140000
DTSTAMP:20260423T004038
CREATED:20260318T231337Z
LAST-MODIFIED:20260318T235516Z
UID:10000879-1813572000-1813586400@staging.penderislandchamber.com
SUMMARY:55+ Monday Activity Days
DESCRIPTION:Stay active and social with a variety of activities designed for the 55+ community.
URL:https://staging.penderislandchamber.com/event/55-monday-activity-days/2027-06-21/
LOCATION:Community Hall\, 4418 Bedwell Harbour Rd\, Pender Island\, BC\, V0N 2M1\, Canada
END:VEVENT
BEGIN:VEVENT
DTSTART;TZID=America/Vancouver:20270625T100000
DTEND;TZID=America/Vancouver:20270625T130000
DTSTAMP:20260423T004038
CREATED:20260318T231119Z
LAST-MODIFIED:20260409T223056Z
UID:10000619-1813917600-1813928400@staging.penderislandchamber.com
SUMMARY:Community Gathering Lunch
DESCRIPTION:Mondays at the Community Hall. Engaging seniors and friends in our community. Various weekly activities with lunch at 12PM. Check the Pender Post for more details. Mondays at the Community Hall. Engaging seniors and friends in our community. Various weekly activities with lunch at 12PM. Check the Pender Post for more details. Mondays at the Community Hall. Engaging seniors and friends in our community. Various weekly activities with lunch at 12PM. Check the Pender Post for more details. Mondays at the Community Hall. Engaging seniors and friends in our community. Various weekly activities with lunch at 12PM. Check the Pender Post for more details.
URL:https://staging.penderislandchamber.com/event/community-gathering-lunch-2/2027-06-25/
LOCATION:Community Hall\, 4418 Bedwell Harbour Rd\, Pender Island\, BC\, V0N 2M1\, Canada
END:VEVENT
BEGIN:VEVENT
DTSTART;TZID=America/Vancouver:20270626T093000
DTEND;TZID=America/Vancouver:20270626T130000
DTSTAMP:20260423T004038
CREATED:20260421T210629Z
LAST-MODIFIED:20260421T210630Z
UID:10000357-1814002200-1814014800@staging.penderislandchamber.com
SUMMARY:Saturday Market
DESCRIPTION:Browse local goods\, fresh foods\, and handmade items at the seasonal market.
URL:https://staging.penderislandchamber.com/event/winter-market-2-2/2027-06-26/
END:VEVENT
BEGIN:VEVENT
DTSTART;TZID=America/Vancouver:20270626T160000
DTEND;TZID=America/Vancouver:20270626T180000
DTSTAMP:20260423T004038
CREATED:20260318T230821Z
LAST-MODIFIED:20260318T235545Z
UID:10000096-1814025600-1814032800@staging.penderislandchamber.com
SUMMARY:Legion Meat Draws
DESCRIPTION:Try your luck at the Legion’s classic meat draws and enjoy a lively afternoon.
URL:https://staging.penderislandchamber.com/event/legion-meat-draws/2027-06-26/
LOCATION:Pender Island Royal Canadian Legion\, 1344 MacKinnon Rd\, Pender Island\, BC\, V0N 2M1\, Canada
END:VEVENT
BEGIN:VEVENT
DTSTART;TZID=America/Vancouver:20270628T100000
DTEND;TZID=America/Vancouver:20270628T140000
DTSTAMP:20260423T004038
CREATED:20260318T231337Z
LAST-MODIFIED:20260318T235516Z
UID:10000880-1814176800-1814191200@staging.penderislandchamber.com
SUMMARY:55+ Monday Activity Days
DESCRIPTION:Stay active and social with a variety of activities designed for the 55+ community.
URL:https://staging.penderislandchamber.com/event/55-monday-activity-days/2027-06-28/
LOCATION:Community Hall\, 4418 Bedwell Harbour Rd\, Pender Island\, BC\, V0N 2M1\, Canada
END:VEVENT
BEGIN:VEVENT
DTSTART;TZID=America/Vancouver:20270702T100000
DTEND;TZID=America/Vancouver:20270702T130000
DTSTAMP:20260423T004038
CREATED:20260318T231119Z
LAST-MODIFIED:20260409T223056Z
UID:10000620-1814522400-1814533200@staging.penderislandchamber.com
SUMMARY:Community Gathering Lunch
DESCRIPTION:Mondays at the Community Hall. Engaging seniors and friends in our community. Various weekly activities with lunch at 12PM. Check the Pender Post for more details. Mondays at the Community Hall. Engaging seniors and friends in our community. Various weekly activities with lunch at 12PM. Check the Pender Post for more details. Mondays at the Community Hall. Engaging seniors and friends in our community. Various weekly activities with lunch at 12PM. Check the Pender Post for more details. Mondays at the Community Hall. Engaging seniors and friends in our community. Various weekly activities with lunch at 12PM. Check the Pender Post for more details.
URL:https://staging.penderislandchamber.com/event/community-gathering-lunch-2/2027-07-02/
LOCATION:Community Hall\, 4418 Bedwell Harbour Rd\, Pender Island\, BC\, V0N 2M1\, Canada
END:VEVENT
BEGIN:VEVENT
DTSTART;TZID=America/Vancouver:20270703T093000
DTEND;TZID=America/Vancouver:20270703T130000
DTSTAMP:20260423T004038
CREATED:20260421T210629Z
LAST-MODIFIED:20260421T210630Z
UID:10000358-1814607000-1814619600@staging.penderislandchamber.com
SUMMARY:Saturday Market
DESCRIPTION:Browse local goods\, fresh foods\, and handmade items at the seasonal market.
URL:https://staging.penderislandchamber.com/event/winter-market-2-2/2027-07-03/
END:VEVENT
BEGIN:VEVENT
DTSTART;TZID=America/Vancouver:20270703T160000
DTEND;TZID=America/Vancouver:20270703T180000
DTSTAMP:20260423T004038
CREATED:20260318T230821Z
LAST-MODIFIED:20260318T235545Z
UID:10000097-1814630400-1814637600@staging.penderislandchamber.com
SUMMARY:Legion Meat Draws
DESCRIPTION:Try your luck at the Legion’s classic meat draws and enjoy a lively afternoon.
URL:https://staging.penderislandchamber.com/event/legion-meat-draws/2027-07-03/
LOCATION:Pender Island Royal Canadian Legion\, 1344 MacKinnon Rd\, Pender Island\, BC\, V0N 2M1\, Canada
END:VEVENT
BEGIN:VEVENT
DTSTART;TZID=America/Vancouver:20270705T100000
DTEND;TZID=America/Vancouver:20270705T140000
DTSTAMP:20260423T004038
CREATED:20260318T231337Z
LAST-MODIFIED:20260318T235516Z
UID:10000881-1814781600-1814796000@staging.penderislandchamber.com
SUMMARY:55+ Monday Activity Days
DESCRIPTION:Stay active and social with a variety of activities designed for the 55+ community.
URL:https://staging.penderislandchamber.com/event/55-monday-activity-days/2027-07-05/
LOCATION:Community Hall\, 4418 Bedwell Harbour Rd\, Pender Island\, BC\, V0N 2M1\, Canada
END:VEVENT
BEGIN:VEVENT
DTSTART;TZID=America/Vancouver:20270709T100000
DTEND;TZID=America/Vancouver:20270709T130000
DTSTAMP:20260423T004038
CREATED:20260318T231119Z
LAST-MODIFIED:20260409T223056Z
UID:10000621-1815127200-1815138000@staging.penderislandchamber.com
SUMMARY:Community Gathering Lunch
DESCRIPTION:Mondays at the Community Hall. Engaging seniors and friends in our community. Various weekly activities with lunch at 12PM. Check the Pender Post for more details. Mondays at the Community Hall. Engaging seniors and friends in our community. Various weekly activities with lunch at 12PM. Check the Pender Post for more details. Mondays at the Community Hall. Engaging seniors and friends in our community. Various weekly activities with lunch at 12PM. Check the Pender Post for more details. Mondays at the Community Hall. Engaging seniors and friends in our community. Various weekly activities with lunch at 12PM. Check the Pender Post for more details.
URL:https://staging.penderislandchamber.com/event/community-gathering-lunch-2/2027-07-09/
LOCATION:Community Hall\, 4418 Bedwell Harbour Rd\, Pender Island\, BC\, V0N 2M1\, Canada
END:VEVENT
BEGIN:VEVENT
DTSTART;TZID=America/Vancouver:20270710T093000
DTEND;TZID=America/Vancouver:20270710T130000
DTSTAMP:20260423T004038
CREATED:20260421T210629Z
LAST-MODIFIED:20260421T210630Z
UID:10000359-1815211800-1815224400@staging.penderislandchamber.com
SUMMARY:Saturday Market
DESCRIPTION:Browse local goods\, fresh foods\, and handmade items at the seasonal market.
URL:https://staging.penderislandchamber.com/event/winter-market-2-2/2027-07-10/
END:VEVENT
BEGIN:VEVENT
DTSTART;TZID=America/Vancouver:20270710T160000
DTEND;TZID=America/Vancouver:20270710T180000
DTSTAMP:20260423T004038
CREATED:20260318T230821Z
LAST-MODIFIED:20260318T235545Z
UID:10000098-1815235200-1815242400@staging.penderislandchamber.com
SUMMARY:Legion Meat Draws
DESCRIPTION:Try your luck at the Legion’s classic meat draws and enjoy a lively afternoon.
URL:https://staging.penderislandchamber.com/event/legion-meat-draws/2027-07-10/
LOCATION:Pender Island Royal Canadian Legion\, 1344 MacKinnon Rd\, Pender Island\, BC\, V0N 2M1\, Canada
END:VEVENT
BEGIN:VEVENT
DTSTART;TZID=America/Vancouver:20270712T100000
DTEND;TZID=America/Vancouver:20270712T140000
DTSTAMP:20260423T004038
CREATED:20260318T231337Z
LAST-MODIFIED:20260318T235516Z
UID:10000882-1815386400-1815400800@staging.penderislandchamber.com
SUMMARY:55+ Monday Activity Days
DESCRIPTION:Stay active and social with a variety of activities designed for the 55+ community.
URL:https://staging.penderislandchamber.com/event/55-monday-activity-days/2027-07-12/
LOCATION:Community Hall\, 4418 Bedwell Harbour Rd\, Pender Island\, BC\, V0N 2M1\, Canada
END:VEVENT
BEGIN:VEVENT
DTSTART;TZID=America/Vancouver:20270716T100000
DTEND;TZID=America/Vancouver:20270716T130000
DTSTAMP:20260423T004038
CREATED:20260318T231119Z
LAST-MODIFIED:20260409T223056Z
UID:10000622-1815732000-1815742800@staging.penderislandchamber.com
SUMMARY:Community Gathering Lunch
DESCRIPTION:Mondays at the Community Hall. Engaging seniors and friends in our community. Various weekly activities with lunch at 12PM. Check the Pender Post for more details. Mondays at the Community Hall. Engaging seniors and friends in our community. Various weekly activities with lunch at 12PM. Check the Pender Post for more details. Mondays at the Community Hall. Engaging seniors and friends in our community. Various weekly activities with lunch at 12PM. Check the Pender Post for more details. Mondays at the Community Hall. Engaging seniors and friends in our community. Various weekly activities with lunch at 12PM. Check the Pender Post for more details.
URL:https://staging.penderislandchamber.com/event/community-gathering-lunch-2/2027-07-16/
LOCATION:Community Hall\, 4418 Bedwell Harbour Rd\, Pender Island\, BC\, V0N 2M1\, Canada
END:VEVENT
BEGIN:VEVENT
DTSTART;TZID=America/Vancouver:20270717T093000
DTEND;TZID=America/Vancouver:20270717T130000
DTSTAMP:20260423T004038
CREATED:20260421T210629Z
LAST-MODIFIED:20260421T210630Z
UID:10000360-1815816600-1815829200@staging.penderislandchamber.com
SUMMARY:Saturday Market
DESCRIPTION:Browse local goods\, fresh foods\, and handmade items at the seasonal market.
URL:https://staging.penderislandchamber.com/event/winter-market-2-2/2027-07-17/
END:VEVENT
BEGIN:VEVENT
DTSTART;TZID=America/Vancouver:20270717T160000
DTEND;TZID=America/Vancouver:20270717T180000
DTSTAMP:20260423T004038
CREATED:20260318T230821Z
LAST-MODIFIED:20260318T235545Z
UID:10000099-1815840000-1815847200@staging.penderislandchamber.com
SUMMARY:Legion Meat Draws
DESCRIPTION:Try your luck at the Legion’s classic meat draws and enjoy a lively afternoon.
URL:https://staging.penderislandchamber.com/event/legion-meat-draws/2027-07-17/
LOCATION:Pender Island Royal Canadian Legion\, 1344 MacKinnon Rd\, Pender Island\, BC\, V0N 2M1\, Canada
END:VEVENT
BEGIN:VEVENT
DTSTART;TZID=America/Vancouver:20270719T100000
DTEND;TZID=America/Vancouver:20270719T140000
DTSTAMP:20260423T004038
CREATED:20260318T231337Z
LAST-MODIFIED:20260318T235516Z
UID:10000883-1815991200-1816005600@staging.penderislandchamber.com
SUMMARY:55+ Monday Activity Days
DESCRIPTION:Stay active and social with a variety of activities designed for the 55+ community.
URL:https://staging.penderislandchamber.com/event/55-monday-activity-days/2027-07-19/
LOCATION:Community Hall\, 4418 Bedwell Harbour Rd\, Pender Island\, BC\, V0N 2M1\, Canada
END:VEVENT
BEGIN:VEVENT
DTSTART;TZID=America/Vancouver:20270723T100000
DTEND;TZID=America/Vancouver:20270723T130000
DTSTAMP:20260423T004038
CREATED:20260318T231119Z
LAST-MODIFIED:20260409T223056Z
UID:10000623-1816336800-1816347600@staging.penderislandchamber.com
SUMMARY:Community Gathering Lunch
DESCRIPTION:Mondays at the Community Hall. Engaging seniors and friends in our community. Various weekly activities with lunch at 12PM. Check the Pender Post for more details. Mondays at the Community Hall. Engaging seniors and friends in our community. Various weekly activities with lunch at 12PM. Check the Pender Post for more details. Mondays at the Community Hall. Engaging seniors and friends in our community. Various weekly activities with lunch at 12PM. Check the Pender Post for more details. Mondays at the Community Hall. Engaging seniors and friends in our community. Various weekly activities with lunch at 12PM. Check the Pender Post for more details.
URL:https://staging.penderislandchamber.com/event/community-gathering-lunch-2/2027-07-23/
LOCATION:Community Hall\, 4418 Bedwell Harbour Rd\, Pender Island\, BC\, V0N 2M1\, Canada
END:VEVENT
BEGIN:VEVENT
DTSTART;TZID=America/Vancouver:20270724T093000
DTEND;TZID=America/Vancouver:20270724T130000
DTSTAMP:20260423T004038
CREATED:20260421T210629Z
LAST-MODIFIED:20260421T210630Z
UID:10000361-1816421400-1816434000@staging.penderislandchamber.com
SUMMARY:Saturday Market
DESCRIPTION:Browse local goods\, fresh foods\, and handmade items at the seasonal market.
URL:https://staging.penderislandchamber.com/event/winter-market-2-2/2027-07-24/
END:VEVENT
BEGIN:VEVENT
DTSTART;TZID=America/Vancouver:20270724T160000
DTEND;TZID=America/Vancouver:20270724T180000
DTSTAMP:20260423T004038
CREATED:20260318T230821Z
LAST-MODIFIED:20260318T235545Z
UID:10000100-1816444800-1816452000@staging.penderislandchamber.com
SUMMARY:Legion Meat Draws
DESCRIPTION:Try your luck at the Legion’s classic meat draws and enjoy a lively afternoon.
URL:https://staging.penderislandchamber.com/event/legion-meat-draws/2027-07-24/
LOCATION:Pender Island Royal Canadian Legion\, 1344 MacKinnon Rd\, Pender Island\, BC\, V0N 2M1\, Canada
END:VEVENT
BEGIN:VEVENT
DTSTART;TZID=America/Vancouver:20270726T100000
DTEND;TZID=America/Vancouver:20270726T140000
DTSTAMP:20260423T004038
CREATED:20260318T231337Z
LAST-MODIFIED:20260318T235516Z
UID:10000884-1816596000-1816610400@staging.penderislandchamber.com
SUMMARY:55+ Monday Activity Days
DESCRIPTION:Stay active and social with a variety of activities designed for the 55+ community.
URL:https://staging.penderislandchamber.com/event/55-monday-activity-days/2027-07-26/
LOCATION:Community Hall\, 4418 Bedwell Harbour Rd\, Pender Island\, BC\, V0N 2M1\, Canada
END:VEVENT
BEGIN:VEVENT
DTSTART;TZID=America/Vancouver:20270730T100000
DTEND;TZID=America/Vancouver:20270730T130000
DTSTAMP:20260423T004038
CREATED:20260318T231119Z
LAST-MODIFIED:20260409T223056Z
UID:10000624-1816941600-1816952400@staging.penderislandchamber.com
SUMMARY:Community Gathering Lunch
DESCRIPTION:Mondays at the Community Hall. Engaging seniors and friends in our community. Various weekly activities with lunch at 12PM. Check the Pender Post for more details. Mondays at the Community Hall. Engaging seniors and friends in our community. Various weekly activities with lunch at 12PM. Check the Pender Post for more details. Mondays at the Community Hall. Engaging seniors and friends in our community. Various weekly activities with lunch at 12PM. Check the Pender Post for more details. Mondays at the Community Hall. Engaging seniors and friends in our community. Various weekly activities with lunch at 12PM. Check the Pender Post for more details.
URL:https://staging.penderislandchamber.com/event/community-gathering-lunch-2/2027-07-30/
LOCATION:Community Hall\, 4418 Bedwell Harbour Rd\, Pender Island\, BC\, V0N 2M1\, Canada
END:VEVENT
BEGIN:VEVENT
DTSTART;TZID=America/Vancouver:20270731T093000
DTEND;TZID=America/Vancouver:20270731T130000
DTSTAMP:20260423T004038
CREATED:20260421T210629Z
LAST-MODIFIED:20260421T210630Z
UID:10000362-1817026200-1817038800@staging.penderislandchamber.com
SUMMARY:Saturday Market
DESCRIPTION:Browse local goods\, fresh foods\, and handmade items at the seasonal market.
URL:https://staging.penderislandchamber.com/event/winter-market-2-2/2027-07-31/
END:VEVENT
BEGIN:VEVENT
DTSTART;TZID=America/Vancouver:20270731T160000
DTEND;TZID=America/Vancouver:20270731T180000
DTSTAMP:20260423T004038
CREATED:20260318T230821Z
LAST-MODIFIED:20260318T235545Z
UID:10000101-1817049600-1817056800@staging.penderislandchamber.com
SUMMARY:Legion Meat Draws
DESCRIPTION:Try your luck at the Legion’s classic meat draws and enjoy a lively afternoon.
URL:https://staging.penderislandchamber.com/event/legion-meat-draws/2027-07-31/
LOCATION:Pender Island Royal Canadian Legion\, 1344 MacKinnon Rd\, Pender Island\, BC\, V0N 2M1\, Canada
END:VEVENT
BEGIN:VEVENT
DTSTART;TZID=America/Vancouver:20270802T100000
DTEND;TZID=America/Vancouver:20270802T140000
DTSTAMP:20260423T004038
CREATED:20260318T231337Z
LAST-MODIFIED:20260318T235516Z
UID:10000885-1817200800-1817215200@staging.penderislandchamber.com
SUMMARY:55+ Monday Activity Days
DESCRIPTION:Stay active and social with a variety of activities designed for the 55+ community.
URL:https://staging.penderislandchamber.com/event/55-monday-activity-days/2027-08-02/
LOCATION:Community Hall\, 4418 Bedwell Harbour Rd\, Pender Island\, BC\, V0N 2M1\, Canada
END:VEVENT
BEGIN:VEVENT
DTSTART;TZID=America/Vancouver:20270806T100000
DTEND;TZID=America/Vancouver:20270806T130000
DTSTAMP:20260423T004038
CREATED:20260318T231119Z
LAST-MODIFIED:20260409T223056Z
UID:10000625-1817546400-1817557200@staging.penderislandchamber.com
SUMMARY:Community Gathering Lunch
DESCRIPTION:Mondays at the Community Hall. Engaging seniors and friends in our community. Various weekly activities with lunch at 12PM. Check the Pender Post for more details. Mondays at the Community Hall. Engaging seniors and friends in our community. Various weekly activities with lunch at 12PM. Check the Pender Post for more details. Mondays at the Community Hall. Engaging seniors and friends in our community. Various weekly activities with lunch at 12PM. Check the Pender Post for more details. Mondays at the Community Hall. Engaging seniors and friends in our community. Various weekly activities with lunch at 12PM. Check the Pender Post for more details.
URL:https://staging.penderislandchamber.com/event/community-gathering-lunch-2/2027-08-06/
LOCATION:Community Hall\, 4418 Bedwell Harbour Rd\, Pender Island\, BC\, V0N 2M1\, Canada
END:VEVENT
BEGIN:VEVENT
DTSTART;TZID=America/Vancouver:20270807T093000
DTEND;TZID=America/Vancouver:20270807T130000
DTSTAMP:20260423T004038
CREATED:20260421T210629Z
LAST-MODIFIED:20260421T210630Z
UID:10000363-1817631000-1817643600@staging.penderislandchamber.com
SUMMARY:Saturday Market
DESCRIPTION:Browse local goods\, fresh foods\, and handmade items at the seasonal market.
URL:https://staging.penderislandchamber.com/event/winter-market-2-2/2027-08-07/
END:VEVENT
END:VCALENDAR