BEGIN:VCALENDAR
VERSION:2.0
PRODID:-//Pender Chamber - ECPv6.15.20//NONSGML v1.0//EN
CALSCALE:GREGORIAN
METHOD:PUBLISH
X-WR-CALNAME:Pender Chamber
X-ORIGINAL-URL:https://staging.penderislandchamber.com
X-WR-CALDESC:Events for Pender Chamber
REFRESH-INTERVAL;VALUE=DURATION:PT1H
X-Robots-Tag:noindex
X-PUBLISHED-TTL:PT1H
BEGIN:VTIMEZONE
TZID:America/Vancouver
BEGIN:DAYLIGHT
TZOFFSETFROM:-0800
TZOFFSETTO:-0700
TZNAME:PDT
DTSTART:20260308T100000
END:DAYLIGHT
BEGIN:STANDARD
TZOFFSETFROM:-0700
TZOFFSETTO:-0800
TZNAME:PST
DTSTART:20261101T090000
END:STANDARD
BEGIN:DAYLIGHT
TZOFFSETFROM:-0800
TZOFFSETTO:-0700
TZNAME:PDT
DTSTART:20270314T100000
END:DAYLIGHT
BEGIN:STANDARD
TZOFFSETFROM:-0700
TZOFFSETTO:-0800
TZNAME:PST
DTSTART:20271107T090000
END:STANDARD
BEGIN:DAYLIGHT
TZOFFSETFROM:-0800
TZOFFSETTO:-0700
TZNAME:PDT
DTSTART:20280312T100000
END:DAYLIGHT
BEGIN:STANDARD
TZOFFSETFROM:-0700
TZOFFSETTO:-0800
TZNAME:PST
DTSTART:20281105T090000
END:STANDARD
END:VTIMEZONE
BEGIN:VEVENT
DTSTART;TZID=America/Vancouver:20271001T100000
DTEND;TZID=America/Vancouver:20271001T130000
DTSTAMP:20260423T074555
CREATED:20260318T231119Z
LAST-MODIFIED:20260409T223056Z
UID:10000633-1822384800-1822395600@staging.penderislandchamber.com
SUMMARY:Community Gathering Lunch
DESCRIPTION:Mondays at the Community Hall. Engaging seniors and friends in our community. Various weekly activities with lunch at 12PM. Check the Pender Post for more details. Mondays at the Community Hall. Engaging seniors and friends in our community. Various weekly activities with lunch at 12PM. Check the Pender Post for more details. Mondays at the Community Hall. Engaging seniors and friends in our community. Various weekly activities with lunch at 12PM. Check the Pender Post for more details. Mondays at the Community Hall. Engaging seniors and friends in our community. Various weekly activities with lunch at 12PM. Check the Pender Post for more details.
URL:https://staging.penderislandchamber.com/event/community-gathering-lunch-2/2027-10-01/
LOCATION:Community Hall\, 4418 Bedwell Harbour Rd\, Pender Island\, BC\, V0N 2M1\, Canada
END:VEVENT
BEGIN:VEVENT
DTSTART;TZID=America/Vancouver:20271002T093000
DTEND;TZID=America/Vancouver:20271002T130000
DTSTAMP:20260423T074555
CREATED:20260421T210629Z
LAST-MODIFIED:20260421T210630Z
UID:10000371-1822469400-1822482000@staging.penderislandchamber.com
SUMMARY:Saturday Market
DESCRIPTION:Browse local goods\, fresh foods\, and handmade items at the seasonal market.
URL:https://staging.penderislandchamber.com/event/winter-market-2-2/2027-10-02/
LOCATION:BC
END:VEVENT
BEGIN:VEVENT
DTSTART;TZID=America/Vancouver:20271002T160000
DTEND;TZID=America/Vancouver:20271002T180000
DTSTAMP:20260423T074555
CREATED:20260318T230821Z
LAST-MODIFIED:20260318T235545Z
UID:10000110-1822492800-1822500000@staging.penderislandchamber.com
SUMMARY:Legion Meat Draws
DESCRIPTION:Try your luck at the Legion’s classic meat draws and enjoy a lively afternoon.
URL:https://staging.penderislandchamber.com/event/legion-meat-draws/2027-10-02/
LOCATION:Pender Island Royal Canadian Legion\, 1344 MacKinnon Rd\, Pender Island\, BC\, V0N 2M1\, Canada
END:VEVENT
BEGIN:VEVENT
DTSTART;TZID=America/Vancouver:20271004T100000
DTEND;TZID=America/Vancouver:20271004T140000
DTSTAMP:20260423T074555
CREATED:20260318T231337Z
LAST-MODIFIED:20260318T235516Z
UID:10000894-1822644000-1822658400@staging.penderislandchamber.com
SUMMARY:55+ Monday Activity Days
DESCRIPTION:Stay active and social with a variety of activities designed for the 55+ community.
URL:https://staging.penderislandchamber.com/event/55-monday-activity-days/2027-10-04/
LOCATION:Community Hall\, 4418 Bedwell Harbour Rd\, Pender Island\, BC\, V0N 2M1\, Canada
END:VEVENT
BEGIN:VEVENT
DTSTART;TZID=America/Vancouver:20271008T100000
DTEND;TZID=America/Vancouver:20271008T130000
DTSTAMP:20260423T074555
CREATED:20260318T231119Z
LAST-MODIFIED:20260409T223056Z
UID:10000634-1822989600-1823000400@staging.penderislandchamber.com
SUMMARY:Community Gathering Lunch
DESCRIPTION:Mondays at the Community Hall. Engaging seniors and friends in our community. Various weekly activities with lunch at 12PM. Check the Pender Post for more details. Mondays at the Community Hall. Engaging seniors and friends in our community. Various weekly activities with lunch at 12PM. Check the Pender Post for more details. Mondays at the Community Hall. Engaging seniors and friends in our community. Various weekly activities with lunch at 12PM. Check the Pender Post for more details. Mondays at the Community Hall. Engaging seniors and friends in our community. Various weekly activities with lunch at 12PM. Check the Pender Post for more details.
URL:https://staging.penderislandchamber.com/event/community-gathering-lunch-2/2027-10-08/
LOCATION:Community Hall\, 4418 Bedwell Harbour Rd\, Pender Island\, BC\, V0N 2M1\, Canada
END:VEVENT
BEGIN:VEVENT
DTSTART;TZID=America/Vancouver:20271009T093000
DTEND;TZID=America/Vancouver:20271009T130000
DTSTAMP:20260423T074555
CREATED:20260421T210629Z
LAST-MODIFIED:20260421T210630Z
UID:10000372-1823074200-1823086800@staging.penderislandchamber.com
SUMMARY:Saturday Market
DESCRIPTION:Browse local goods\, fresh foods\, and handmade items at the seasonal market.
URL:https://staging.penderislandchamber.com/event/winter-market-2-2/2027-10-09/
LOCATION:BC
END:VEVENT
BEGIN:VEVENT
DTSTART;TZID=America/Vancouver:20271009T160000
DTEND;TZID=America/Vancouver:20271009T180000
DTSTAMP:20260423T074556
CREATED:20260318T230821Z
LAST-MODIFIED:20260318T235545Z
UID:10000111-1823097600-1823104800@staging.penderislandchamber.com
SUMMARY:Legion Meat Draws
DESCRIPTION:Try your luck at the Legion’s classic meat draws and enjoy a lively afternoon.
URL:https://staging.penderislandchamber.com/event/legion-meat-draws/2027-10-09/
LOCATION:Pender Island Royal Canadian Legion\, 1344 MacKinnon Rd\, Pender Island\, BC\, V0N 2M1\, Canada
END:VEVENT
BEGIN:VEVENT
DTSTART;TZID=America/Vancouver:20271011T100000
DTEND;TZID=America/Vancouver:20271011T140000
DTSTAMP:20260423T074556
CREATED:20260318T231337Z
LAST-MODIFIED:20260318T235516Z
UID:10000895-1823248800-1823263200@staging.penderislandchamber.com
SUMMARY:55+ Monday Activity Days
DESCRIPTION:Stay active and social with a variety of activities designed for the 55+ community.
URL:https://staging.penderislandchamber.com/event/55-monday-activity-days/2027-10-11/
LOCATION:Community Hall\, 4418 Bedwell Harbour Rd\, Pender Island\, BC\, V0N 2M1\, Canada
END:VEVENT
BEGIN:VEVENT
DTSTART;TZID=America/Vancouver:20271015T100000
DTEND;TZID=America/Vancouver:20271015T130000
DTSTAMP:20260423T074556
CREATED:20260318T231119Z
LAST-MODIFIED:20260409T223056Z
UID:10000635-1823594400-1823605200@staging.penderislandchamber.com
SUMMARY:Community Gathering Lunch
DESCRIPTION:Mondays at the Community Hall. Engaging seniors and friends in our community. Various weekly activities with lunch at 12PM. Check the Pender Post for more details. Mondays at the Community Hall. Engaging seniors and friends in our community. Various weekly activities with lunch at 12PM. Check the Pender Post for more details. Mondays at the Community Hall. Engaging seniors and friends in our community. Various weekly activities with lunch at 12PM. Check the Pender Post for more details. Mondays at the Community Hall. Engaging seniors and friends in our community. Various weekly activities with lunch at 12PM. Check the Pender Post for more details.
URL:https://staging.penderislandchamber.com/event/community-gathering-lunch-2/2027-10-15/
LOCATION:Community Hall\, 4418 Bedwell Harbour Rd\, Pender Island\, BC\, V0N 2M1\, Canada
END:VEVENT
BEGIN:VEVENT
DTSTART;TZID=America/Vancouver:20271016T093000
DTEND;TZID=America/Vancouver:20271016T130000
DTSTAMP:20260423T074556
CREATED:20260421T210629Z
LAST-MODIFIED:20260421T210630Z
UID:10000373-1823679000-1823691600@staging.penderislandchamber.com
SUMMARY:Saturday Market
DESCRIPTION:Browse local goods\, fresh foods\, and handmade items at the seasonal market.
URL:https://staging.penderislandchamber.com/event/winter-market-2-2/2027-10-16/
LOCATION:BC
END:VEVENT
BEGIN:VEVENT
DTSTART;TZID=America/Vancouver:20271016T160000
DTEND;TZID=America/Vancouver:20271016T180000
DTSTAMP:20260423T074556
CREATED:20260318T230821Z
LAST-MODIFIED:20260318T235545Z
UID:10000112-1823702400-1823709600@staging.penderislandchamber.com
SUMMARY:Legion Meat Draws
DESCRIPTION:Try your luck at the Legion’s classic meat draws and enjoy a lively afternoon.
URL:https://staging.penderislandchamber.com/event/legion-meat-draws/2027-10-16/
LOCATION:Pender Island Royal Canadian Legion\, 1344 MacKinnon Rd\, Pender Island\, BC\, V0N 2M1\, Canada
END:VEVENT
BEGIN:VEVENT
DTSTART;TZID=America/Vancouver:20271018T100000
DTEND;TZID=America/Vancouver:20271018T140000
DTSTAMP:20260423T074556
CREATED:20260318T231337Z
LAST-MODIFIED:20260318T235516Z
UID:10000896-1823853600-1823868000@staging.penderislandchamber.com
SUMMARY:55+ Monday Activity Days
DESCRIPTION:Stay active and social with a variety of activities designed for the 55+ community.
URL:https://staging.penderislandchamber.com/event/55-monday-activity-days/2027-10-18/
LOCATION:Community Hall\, 4418 Bedwell Harbour Rd\, Pender Island\, BC\, V0N 2M1\, Canada
END:VEVENT
BEGIN:VEVENT
DTSTART;TZID=America/Vancouver:20271022T100000
DTEND;TZID=America/Vancouver:20271022T130000
DTSTAMP:20260423T074556
CREATED:20260318T231119Z
LAST-MODIFIED:20260409T223056Z
UID:10000636-1824199200-1824210000@staging.penderislandchamber.com
SUMMARY:Community Gathering Lunch
DESCRIPTION:Mondays at the Community Hall. Engaging seniors and friends in our community. Various weekly activities with lunch at 12PM. Check the Pender Post for more details. Mondays at the Community Hall. Engaging seniors and friends in our community. Various weekly activities with lunch at 12PM. Check the Pender Post for more details. Mondays at the Community Hall. Engaging seniors and friends in our community. Various weekly activities with lunch at 12PM. Check the Pender Post for more details. Mondays at the Community Hall. Engaging seniors and friends in our community. Various weekly activities with lunch at 12PM. Check the Pender Post for more details.
URL:https://staging.penderislandchamber.com/event/community-gathering-lunch-2/2027-10-22/
LOCATION:Community Hall\, 4418 Bedwell Harbour Rd\, Pender Island\, BC\, V0N 2M1\, Canada
END:VEVENT
BEGIN:VEVENT
DTSTART;TZID=America/Vancouver:20271023T093000
DTEND;TZID=America/Vancouver:20271023T130000
DTSTAMP:20260423T074556
CREATED:20260421T210629Z
LAST-MODIFIED:20260421T210630Z
UID:10000374-1824283800-1824296400@staging.penderislandchamber.com
SUMMARY:Saturday Market
DESCRIPTION:Browse local goods\, fresh foods\, and handmade items at the seasonal market.
URL:https://staging.penderislandchamber.com/event/winter-market-2-2/2027-10-23/
LOCATION:BC
END:VEVENT
BEGIN:VEVENT
DTSTART;TZID=America/Vancouver:20271023T160000
DTEND;TZID=America/Vancouver:20271023T180000
DTSTAMP:20260423T074556
CREATED:20260318T230821Z
LAST-MODIFIED:20260318T235545Z
UID:10000113-1824307200-1824314400@staging.penderislandchamber.com
SUMMARY:Legion Meat Draws
DESCRIPTION:Try your luck at the Legion’s classic meat draws and enjoy a lively afternoon.
URL:https://staging.penderislandchamber.com/event/legion-meat-draws/2027-10-23/
LOCATION:Pender Island Royal Canadian Legion\, 1344 MacKinnon Rd\, Pender Island\, BC\, V0N 2M1\, Canada
END:VEVENT
BEGIN:VEVENT
DTSTART;TZID=America/Vancouver:20271025T100000
DTEND;TZID=America/Vancouver:20271025T140000
DTSTAMP:20260423T074556
CREATED:20260318T231337Z
LAST-MODIFIED:20260318T235516Z
UID:10000897-1824458400-1824472800@staging.penderislandchamber.com
SUMMARY:55+ Monday Activity Days
DESCRIPTION:Stay active and social with a variety of activities designed for the 55+ community.
URL:https://staging.penderislandchamber.com/event/55-monday-activity-days/2027-10-25/
LOCATION:Community Hall\, 4418 Bedwell Harbour Rd\, Pender Island\, BC\, V0N 2M1\, Canada
END:VEVENT
BEGIN:VEVENT
DTSTART;TZID=America/Vancouver:20271029T100000
DTEND;TZID=America/Vancouver:20271029T130000
DTSTAMP:20260423T074556
CREATED:20260318T231119Z
LAST-MODIFIED:20260409T223056Z
UID:10000637-1824804000-1824814800@staging.penderislandchamber.com
SUMMARY:Community Gathering Lunch
DESCRIPTION:Mondays at the Community Hall. Engaging seniors and friends in our community. Various weekly activities with lunch at 12PM. Check the Pender Post for more details. Mondays at the Community Hall. Engaging seniors and friends in our community. Various weekly activities with lunch at 12PM. Check the Pender Post for more details. Mondays at the Community Hall. Engaging seniors and friends in our community. Various weekly activities with lunch at 12PM. Check the Pender Post for more details. Mondays at the Community Hall. Engaging seniors and friends in our community. Various weekly activities with lunch at 12PM. Check the Pender Post for more details.
URL:https://staging.penderislandchamber.com/event/community-gathering-lunch-2/2027-10-29/
LOCATION:Community Hall\, 4418 Bedwell Harbour Rd\, Pender Island\, BC\, V0N 2M1\, Canada
END:VEVENT
BEGIN:VEVENT
DTSTART;TZID=America/Vancouver:20271030T093000
DTEND;TZID=America/Vancouver:20271030T130000
DTSTAMP:20260423T074556
CREATED:20260421T210629Z
LAST-MODIFIED:20260421T210630Z
UID:10000375-1824888600-1824901200@staging.penderislandchamber.com
SUMMARY:Saturday Market
DESCRIPTION:Browse local goods\, fresh foods\, and handmade items at the seasonal market.
URL:https://staging.penderislandchamber.com/event/winter-market-2-2/2027-10-30/
LOCATION:BC
END:VEVENT
BEGIN:VEVENT
DTSTART;TZID=America/Vancouver:20271030T160000
DTEND;TZID=America/Vancouver:20271030T180000
DTSTAMP:20260423T074556
CREATED:20260318T230821Z
LAST-MODIFIED:20260318T235545Z
UID:10000114-1824912000-1824919200@staging.penderislandchamber.com
SUMMARY:Legion Meat Draws
DESCRIPTION:Try your luck at the Legion’s classic meat draws and enjoy a lively afternoon.
URL:https://staging.penderislandchamber.com/event/legion-meat-draws/2027-10-30/
LOCATION:Pender Island Royal Canadian Legion\, 1344 MacKinnon Rd\, Pender Island\, BC\, V0N 2M1\, Canada
END:VEVENT
BEGIN:VEVENT
DTSTART;TZID=America/Vancouver:20271101T100000
DTEND;TZID=America/Vancouver:20271101T140000
DTSTAMP:20260423T074556
CREATED:20260318T231337Z
LAST-MODIFIED:20260318T235516Z
UID:10000898-1825063200-1825077600@staging.penderislandchamber.com
SUMMARY:55+ Monday Activity Days
DESCRIPTION:Stay active and social with a variety of activities designed for the 55+ community.
URL:https://staging.penderislandchamber.com/event/55-monday-activity-days/2027-11-01/
LOCATION:Community Hall\, 4418 Bedwell Harbour Rd\, Pender Island\, BC\, V0N 2M1\, Canada
END:VEVENT
BEGIN:VEVENT
DTSTART;TZID=America/Vancouver:20271105T100000
DTEND;TZID=America/Vancouver:20271105T130000
DTSTAMP:20260423T074556
CREATED:20260318T231119Z
LAST-MODIFIED:20260409T223056Z
UID:10000638-1825408800-1825419600@staging.penderislandchamber.com
SUMMARY:Community Gathering Lunch
DESCRIPTION:Mondays at the Community Hall. Engaging seniors and friends in our community. Various weekly activities with lunch at 12PM. Check the Pender Post for more details. Mondays at the Community Hall. Engaging seniors and friends in our community. Various weekly activities with lunch at 12PM. Check the Pender Post for more details. Mondays at the Community Hall. Engaging seniors and friends in our community. Various weekly activities with lunch at 12PM. Check the Pender Post for more details. Mondays at the Community Hall. Engaging seniors and friends in our community. Various weekly activities with lunch at 12PM. Check the Pender Post for more details.
URL:https://staging.penderislandchamber.com/event/community-gathering-lunch-2/2027-11-05/
LOCATION:Community Hall\, 4418 Bedwell Harbour Rd\, Pender Island\, BC\, V0N 2M1\, Canada
END:VEVENT
BEGIN:VEVENT
DTSTART;TZID=America/Vancouver:20271106T093000
DTEND;TZID=America/Vancouver:20271106T130000
DTSTAMP:20260423T074556
CREATED:20260421T210629Z
LAST-MODIFIED:20260421T210630Z
UID:10000376-1825493400-1825506000@staging.penderislandchamber.com
SUMMARY:Saturday Market
DESCRIPTION:Browse local goods\, fresh foods\, and handmade items at the seasonal market.
URL:https://staging.penderislandchamber.com/event/winter-market-2-2/2027-11-06/
LOCATION:BC
END:VEVENT
BEGIN:VEVENT
DTSTART;TZID=America/Vancouver:20271106T160000
DTEND;TZID=America/Vancouver:20271106T180000
DTSTAMP:20260423T074556
CREATED:20260318T230821Z
LAST-MODIFIED:20260318T235545Z
UID:10000115-1825516800-1825524000@staging.penderislandchamber.com
SUMMARY:Legion Meat Draws
DESCRIPTION:Try your luck at the Legion’s classic meat draws and enjoy a lively afternoon.
URL:https://staging.penderislandchamber.com/event/legion-meat-draws/2027-11-06/
LOCATION:Pender Island Royal Canadian Legion\, 1344 MacKinnon Rd\, Pender Island\, BC\, V0N 2M1\, Canada
END:VEVENT
BEGIN:VEVENT
DTSTART;TZID=America/Vancouver:20271108T100000
DTEND;TZID=America/Vancouver:20271108T140000
DTSTAMP:20260423T074556
CREATED:20260318T231337Z
LAST-MODIFIED:20260318T235516Z
UID:10000899-1825668000-1825682400@staging.penderislandchamber.com
SUMMARY:55+ Monday Activity Days
DESCRIPTION:Stay active and social with a variety of activities designed for the 55+ community.
URL:https://staging.penderislandchamber.com/event/55-monday-activity-days/2027-11-08/
LOCATION:Community Hall\, 4418 Bedwell Harbour Rd\, Pender Island\, BC\, V0N 2M1\, Canada
END:VEVENT
BEGIN:VEVENT
DTSTART;TZID=America/Vancouver:20271112T100000
DTEND;TZID=America/Vancouver:20271112T130000
DTSTAMP:20260423T074556
CREATED:20260318T231119Z
LAST-MODIFIED:20260409T223056Z
UID:10000639-1826013600-1826024400@staging.penderislandchamber.com
SUMMARY:Community Gathering Lunch
DESCRIPTION:Mondays at the Community Hall. Engaging seniors and friends in our community. Various weekly activities with lunch at 12PM. Check the Pender Post for more details. Mondays at the Community Hall. Engaging seniors and friends in our community. Various weekly activities with lunch at 12PM. Check the Pender Post for more details. Mondays at the Community Hall. Engaging seniors and friends in our community. Various weekly activities with lunch at 12PM. Check the Pender Post for more details. Mondays at the Community Hall. Engaging seniors and friends in our community. Various weekly activities with lunch at 12PM. Check the Pender Post for more details.
URL:https://staging.penderislandchamber.com/event/community-gathering-lunch-2/2027-11-12/
LOCATION:Community Hall\, 4418 Bedwell Harbour Rd\, Pender Island\, BC\, V0N 2M1\, Canada
END:VEVENT
BEGIN:VEVENT
DTSTART;TZID=America/Vancouver:20271113T093000
DTEND;TZID=America/Vancouver:20271113T130000
DTSTAMP:20260423T074556
CREATED:20260421T210629Z
LAST-MODIFIED:20260421T210630Z
UID:10000377-1826098200-1826110800@staging.penderislandchamber.com
SUMMARY:Saturday Market
DESCRIPTION:Browse local goods\, fresh foods\, and handmade items at the seasonal market.
URL:https://staging.penderislandchamber.com/event/winter-market-2-2/2027-11-13/
LOCATION:BC
END:VEVENT
BEGIN:VEVENT
DTSTART;TZID=America/Vancouver:20271113T160000
DTEND;TZID=America/Vancouver:20271113T180000
DTSTAMP:20260423T074556
CREATED:20260318T230821Z
LAST-MODIFIED:20260318T235545Z
UID:10000116-1826121600-1826128800@staging.penderislandchamber.com
SUMMARY:Legion Meat Draws
DESCRIPTION:Try your luck at the Legion’s classic meat draws and enjoy a lively afternoon.
URL:https://staging.penderislandchamber.com/event/legion-meat-draws/2027-11-13/
LOCATION:Pender Island Royal Canadian Legion\, 1344 MacKinnon Rd\, Pender Island\, BC\, V0N 2M1\, Canada
END:VEVENT
BEGIN:VEVENT
DTSTART;TZID=America/Vancouver:20271115T100000
DTEND;TZID=America/Vancouver:20271115T140000
DTSTAMP:20260423T074556
CREATED:20260318T231337Z
LAST-MODIFIED:20260318T235516Z
UID:10000900-1826272800-1826287200@staging.penderislandchamber.com
SUMMARY:55+ Monday Activity Days
DESCRIPTION:Stay active and social with a variety of activities designed for the 55+ community.
URL:https://staging.penderislandchamber.com/event/55-monday-activity-days/2027-11-15/
LOCATION:Community Hall\, 4418 Bedwell Harbour Rd\, Pender Island\, BC\, V0N 2M1\, Canada
END:VEVENT
BEGIN:VEVENT
DTSTART;TZID=America/Vancouver:20271119T100000
DTEND;TZID=America/Vancouver:20271119T130000
DTSTAMP:20260423T074556
CREATED:20260318T231119Z
LAST-MODIFIED:20260409T223056Z
UID:10000640-1826618400-1826629200@staging.penderislandchamber.com
SUMMARY:Community Gathering Lunch
DESCRIPTION:Mondays at the Community Hall. Engaging seniors and friends in our community. Various weekly activities with lunch at 12PM. Check the Pender Post for more details. Mondays at the Community Hall. Engaging seniors and friends in our community. Various weekly activities with lunch at 12PM. Check the Pender Post for more details. Mondays at the Community Hall. Engaging seniors and friends in our community. Various weekly activities with lunch at 12PM. Check the Pender Post for more details. Mondays at the Community Hall. Engaging seniors and friends in our community. Various weekly activities with lunch at 12PM. Check the Pender Post for more details.
URL:https://staging.penderislandchamber.com/event/community-gathering-lunch-2/2027-11-19/
LOCATION:Community Hall\, 4418 Bedwell Harbour Rd\, Pender Island\, BC\, V0N 2M1\, Canada
END:VEVENT
BEGIN:VEVENT
DTSTART;TZID=America/Vancouver:20271120T093000
DTEND;TZID=America/Vancouver:20271120T130000
DTSTAMP:20260423T074556
CREATED:20260421T210629Z
LAST-MODIFIED:20260421T210630Z
UID:10000378-1826703000-1826715600@staging.penderislandchamber.com
SUMMARY:Saturday Market
DESCRIPTION:Browse local goods\, fresh foods\, and handmade items at the seasonal market.
URL:https://staging.penderislandchamber.com/event/winter-market-2-2/2027-11-20/
LOCATION:BC
END:VEVENT
END:VCALENDAR