BEGIN:VCALENDAR
VERSION:2.0
PRODID:-//Pender Chamber - ECPv6.15.20//NONSGML v1.0//EN
CALSCALE:GREGORIAN
METHOD:PUBLISH
X-ORIGINAL-URL:https://staging.penderislandchamber.com
X-WR-CALDESC:Events for Pender Chamber
REFRESH-INTERVAL;VALUE=DURATION:PT1H
X-Robots-Tag:noindex
X-PUBLISHED-TTL:PT1H
BEGIN:VTIMEZONE
TZID:America/Vancouver
BEGIN:DAYLIGHT
TZOFFSETFROM:-0800
TZOFFSETTO:-0700
TZNAME:PDT
DTSTART:20270314T100000
END:DAYLIGHT
BEGIN:STANDARD
TZOFFSETFROM:-0700
TZOFFSETTO:-0800
TZNAME:PST
DTSTART:20271107T090000
END:STANDARD
BEGIN:DAYLIGHT
TZOFFSETFROM:-0800
TZOFFSETTO:-0700
TZNAME:PDT
DTSTART:20280312T100000
END:DAYLIGHT
BEGIN:STANDARD
TZOFFSETFROM:-0700
TZOFFSETTO:-0800
TZNAME:PST
DTSTART:20281105T090000
END:STANDARD
BEGIN:DAYLIGHT
TZOFFSETFROM:-0800
TZOFFSETTO:-0700
TZNAME:PDT
DTSTART:20290311T100000
END:DAYLIGHT
BEGIN:STANDARD
TZOFFSETFROM:-0700
TZOFFSETTO:-0800
TZNAME:PST
DTSTART:20291104T090000
END:STANDARD
END:VTIMEZONE
BEGIN:VEVENT
DTSTART;TZID=America/Vancouver:20280110T100000
DTEND;TZID=America/Vancouver:20280110T140000
DTSTAMP:20260422T145446
CREATED:20260318T231337Z
LAST-MODIFIED:20260318T235516Z
UID:10000908-1831111200-1831125600@staging.penderislandchamber.com
SUMMARY:55+ Monday Activity Days
DESCRIPTION:Stay active and social with a variety of activities designed for the 55+ community.
URL:https://staging.penderislandchamber.com/event/55-monday-activity-days/2028-01-10/
LOCATION:Community Hall\, 4418 Bedwell Harbour Rd\, Pender Island\, BC\, V0N 2M1\, Canada
END:VEVENT
BEGIN:VEVENT
DTSTART;TZID=America/Vancouver:20280114T100000
DTEND;TZID=America/Vancouver:20280114T130000
DTSTAMP:20260422T145446
CREATED:20260318T231119Z
LAST-MODIFIED:20260409T223056Z
UID:10000648-1831456800-1831467600@staging.penderislandchamber.com
SUMMARY:Community Gathering Lunch
DESCRIPTION:Mondays at the Community Hall. Engaging seniors and friends in our community. Various weekly activities with lunch at 12PM. Check the Pender Post for more details. Mondays at the Community Hall. Engaging seniors and friends in our community. Various weekly activities with lunch at 12PM. Check the Pender Post for more details. Mondays at the Community Hall. Engaging seniors and friends in our community. Various weekly activities with lunch at 12PM. Check the Pender Post for more details. Mondays at the Community Hall. Engaging seniors and friends in our community. Various weekly activities with lunch at 12PM. Check the Pender Post for more details.
URL:https://staging.penderislandchamber.com/event/community-gathering-lunch-2/2028-01-14/
LOCATION:Community Hall\, 4418 Bedwell Harbour Rd\, Pender Island\, BC\, V0N 2M1\, Canada
END:VEVENT
BEGIN:VEVENT
DTSTART;TZID=America/Vancouver:20280117T100000
DTEND;TZID=America/Vancouver:20280117T140000
DTSTAMP:20260422T145446
CREATED:20260318T231337Z
LAST-MODIFIED:20260318T235516Z
UID:10000909-1831716000-1831730400@staging.penderislandchamber.com
SUMMARY:55+ Monday Activity Days
DESCRIPTION:Stay active and social with a variety of activities designed for the 55+ community.
URL:https://staging.penderislandchamber.com/event/55-monday-activity-days/2028-01-17/
LOCATION:Community Hall\, 4418 Bedwell Harbour Rd\, Pender Island\, BC\, V0N 2M1\, Canada
END:VEVENT
BEGIN:VEVENT
DTSTART;TZID=America/Vancouver:20280121T100000
DTEND;TZID=America/Vancouver:20280121T130000
DTSTAMP:20260422T145446
CREATED:20260318T231119Z
LAST-MODIFIED:20260409T223056Z
UID:10000649-1832061600-1832072400@staging.penderislandchamber.com
SUMMARY:Community Gathering Lunch
DESCRIPTION:Mondays at the Community Hall. Engaging seniors and friends in our community. Various weekly activities with lunch at 12PM. Check the Pender Post for more details. Mondays at the Community Hall. Engaging seniors and friends in our community. Various weekly activities with lunch at 12PM. Check the Pender Post for more details. Mondays at the Community Hall. Engaging seniors and friends in our community. Various weekly activities with lunch at 12PM. Check the Pender Post for more details. Mondays at the Community Hall. Engaging seniors and friends in our community. Various weekly activities with lunch at 12PM. Check the Pender Post for more details.
URL:https://staging.penderislandchamber.com/event/community-gathering-lunch-2/2028-01-21/
LOCATION:Community Hall\, 4418 Bedwell Harbour Rd\, Pender Island\, BC\, V0N 2M1\, Canada
END:VEVENT
BEGIN:VEVENT
DTSTART;TZID=America/Vancouver:20280124T100000
DTEND;TZID=America/Vancouver:20280124T140000
DTSTAMP:20260422T145446
CREATED:20260318T231337Z
LAST-MODIFIED:20260318T235516Z
UID:10000910-1832320800-1832335200@staging.penderislandchamber.com
SUMMARY:55+ Monday Activity Days
DESCRIPTION:Stay active and social with a variety of activities designed for the 55+ community.
URL:https://staging.penderislandchamber.com/event/55-monday-activity-days/2028-01-24/
LOCATION:Community Hall\, 4418 Bedwell Harbour Rd\, Pender Island\, BC\, V0N 2M1\, Canada
END:VEVENT
BEGIN:VEVENT
DTSTART;TZID=America/Vancouver:20280128T100000
DTEND;TZID=America/Vancouver:20280128T130000
DTSTAMP:20260422T145446
CREATED:20260318T231119Z
LAST-MODIFIED:20260409T223056Z
UID:10000650-1832666400-1832677200@staging.penderislandchamber.com
SUMMARY:Community Gathering Lunch
DESCRIPTION:Mondays at the Community Hall. Engaging seniors and friends in our community. Various weekly activities with lunch at 12PM. Check the Pender Post for more details. Mondays at the Community Hall. Engaging seniors and friends in our community. Various weekly activities with lunch at 12PM. Check the Pender Post for more details. Mondays at the Community Hall. Engaging seniors and friends in our community. Various weekly activities with lunch at 12PM. Check the Pender Post for more details. Mondays at the Community Hall. Engaging seniors and friends in our community. Various weekly activities with lunch at 12PM. Check the Pender Post for more details.
URL:https://staging.penderislandchamber.com/event/community-gathering-lunch-2/2028-01-28/
LOCATION:Community Hall\, 4418 Bedwell Harbour Rd\, Pender Island\, BC\, V0N 2M1\, Canada
END:VEVENT
BEGIN:VEVENT
DTSTART;TZID=America/Vancouver:20280131T100000
DTEND;TZID=America/Vancouver:20280131T140000
DTSTAMP:20260422T145446
CREATED:20260318T231337Z
LAST-MODIFIED:20260318T235516Z
UID:10000911-1832925600-1832940000@staging.penderislandchamber.com
SUMMARY:55+ Monday Activity Days
DESCRIPTION:Stay active and social with a variety of activities designed for the 55+ community.
URL:https://staging.penderislandchamber.com/event/55-monday-activity-days/2028-01-31/
LOCATION:Community Hall\, 4418 Bedwell Harbour Rd\, Pender Island\, BC\, V0N 2M1\, Canada
END:VEVENT
BEGIN:VEVENT
DTSTART;TZID=America/Vancouver:20280204T100000
DTEND;TZID=America/Vancouver:20280204T130000
DTSTAMP:20260422T145446
CREATED:20260318T231119Z
LAST-MODIFIED:20260409T223056Z
UID:10000651-1833271200-1833282000@staging.penderislandchamber.com
SUMMARY:Community Gathering Lunch
DESCRIPTION:Mondays at the Community Hall. Engaging seniors and friends in our community. Various weekly activities with lunch at 12PM. Check the Pender Post for more details. Mondays at the Community Hall. Engaging seniors and friends in our community. Various weekly activities with lunch at 12PM. Check the Pender Post for more details. Mondays at the Community Hall. Engaging seniors and friends in our community. Various weekly activities with lunch at 12PM. Check the Pender Post for more details. Mondays at the Community Hall. Engaging seniors and friends in our community. Various weekly activities with lunch at 12PM. Check the Pender Post for more details.
URL:https://staging.penderislandchamber.com/event/community-gathering-lunch-2/2028-02-04/
LOCATION:Community Hall\, 4418 Bedwell Harbour Rd\, Pender Island\, BC\, V0N 2M1\, Canada
END:VEVENT
BEGIN:VEVENT
DTSTART;TZID=America/Vancouver:20280207T100000
DTEND;TZID=America/Vancouver:20280207T140000
DTSTAMP:20260422T145446
CREATED:20260318T231337Z
LAST-MODIFIED:20260318T235516Z
UID:10000912-1833530400-1833544800@staging.penderislandchamber.com
SUMMARY:55+ Monday Activity Days
DESCRIPTION:Stay active and social with a variety of activities designed for the 55+ community.
URL:https://staging.penderislandchamber.com/event/55-monday-activity-days/2028-02-07/
LOCATION:Community Hall\, 4418 Bedwell Harbour Rd\, Pender Island\, BC\, V0N 2M1\, Canada
END:VEVENT
BEGIN:VEVENT
DTSTART;TZID=America/Vancouver:20280211T100000
DTEND;TZID=America/Vancouver:20280211T130000
DTSTAMP:20260422T145446
CREATED:20260318T231119Z
LAST-MODIFIED:20260409T223056Z
UID:10000652-1833876000-1833886800@staging.penderislandchamber.com
SUMMARY:Community Gathering Lunch
DESCRIPTION:Mondays at the Community Hall. Engaging seniors and friends in our community. Various weekly activities with lunch at 12PM. Check the Pender Post for more details. Mondays at the Community Hall. Engaging seniors and friends in our community. Various weekly activities with lunch at 12PM. Check the Pender Post for more details. Mondays at the Community Hall. Engaging seniors and friends in our community. Various weekly activities with lunch at 12PM. Check the Pender Post for more details. Mondays at the Community Hall. Engaging seniors and friends in our community. Various weekly activities with lunch at 12PM. Check the Pender Post for more details.
URL:https://staging.penderislandchamber.com/event/community-gathering-lunch-2/2028-02-11/
LOCATION:Community Hall\, 4418 Bedwell Harbour Rd\, Pender Island\, BC\, V0N 2M1\, Canada
END:VEVENT
BEGIN:VEVENT
DTSTART;TZID=America/Vancouver:20280214T100000
DTEND;TZID=America/Vancouver:20280214T140000
DTSTAMP:20260422T145446
CREATED:20260318T231337Z
LAST-MODIFIED:20260318T235516Z
UID:10000913-1834135200-1834149600@staging.penderislandchamber.com
SUMMARY:55+ Monday Activity Days
DESCRIPTION:Stay active and social with a variety of activities designed for the 55+ community.
URL:https://staging.penderislandchamber.com/event/55-monday-activity-days/2028-02-14/
LOCATION:Community Hall\, 4418 Bedwell Harbour Rd\, Pender Island\, BC\, V0N 2M1\, Canada
END:VEVENT
BEGIN:VEVENT
DTSTART;TZID=America/Vancouver:20280218T100000
DTEND;TZID=America/Vancouver:20280218T130000
DTSTAMP:20260422T145446
CREATED:20260318T231119Z
LAST-MODIFIED:20260409T223056Z
UID:10000653-1834480800-1834491600@staging.penderislandchamber.com
SUMMARY:Community Gathering Lunch
DESCRIPTION:Mondays at the Community Hall. Engaging seniors and friends in our community. Various weekly activities with lunch at 12PM. Check the Pender Post for more details. Mondays at the Community Hall. Engaging seniors and friends in our community. Various weekly activities with lunch at 12PM. Check the Pender Post for more details. Mondays at the Community Hall. Engaging seniors and friends in our community. Various weekly activities with lunch at 12PM. Check the Pender Post for more details. Mondays at the Community Hall. Engaging seniors and friends in our community. Various weekly activities with lunch at 12PM. Check the Pender Post for more details.
URL:https://staging.penderislandchamber.com/event/community-gathering-lunch-2/2028-02-18/
LOCATION:Community Hall\, 4418 Bedwell Harbour Rd\, Pender Island\, BC\, V0N 2M1\, Canada
END:VEVENT
BEGIN:VEVENT
DTSTART;TZID=America/Vancouver:20280221T100000
DTEND;TZID=America/Vancouver:20280221T140000
DTSTAMP:20260422T145446
CREATED:20260318T231337Z
LAST-MODIFIED:20260318T235516Z
UID:10000914-1834740000-1834754400@staging.penderislandchamber.com
SUMMARY:55+ Monday Activity Days
DESCRIPTION:Stay active and social with a variety of activities designed for the 55+ community.
URL:https://staging.penderislandchamber.com/event/55-monday-activity-days/2028-02-21/
LOCATION:Community Hall\, 4418 Bedwell Harbour Rd\, Pender Island\, BC\, V0N 2M1\, Canada
END:VEVENT
BEGIN:VEVENT
DTSTART;TZID=America/Vancouver:20280225T100000
DTEND;TZID=America/Vancouver:20280225T130000
DTSTAMP:20260422T145446
CREATED:20260318T231119Z
LAST-MODIFIED:20260409T223056Z
UID:10000654-1835085600-1835096400@staging.penderislandchamber.com
SUMMARY:Community Gathering Lunch
DESCRIPTION:Mondays at the Community Hall. Engaging seniors and friends in our community. Various weekly activities with lunch at 12PM. Check the Pender Post for more details. Mondays at the Community Hall. Engaging seniors and friends in our community. Various weekly activities with lunch at 12PM. Check the Pender Post for more details. Mondays at the Community Hall. Engaging seniors and friends in our community. Various weekly activities with lunch at 12PM. Check the Pender Post for more details. Mondays at the Community Hall. Engaging seniors and friends in our community. Various weekly activities with lunch at 12PM. Check the Pender Post for more details.
URL:https://staging.penderislandchamber.com/event/community-gathering-lunch-2/2028-02-25/
LOCATION:Community Hall\, 4418 Bedwell Harbour Rd\, Pender Island\, BC\, V0N 2M1\, Canada
END:VEVENT
BEGIN:VEVENT
DTSTART;TZID=America/Vancouver:20280228T100000
DTEND;TZID=America/Vancouver:20280228T140000
DTSTAMP:20260422T145446
CREATED:20260318T231337Z
LAST-MODIFIED:20260318T235516Z
UID:10000915-1835344800-1835359200@staging.penderislandchamber.com
SUMMARY:55+ Monday Activity Days
DESCRIPTION:Stay active and social with a variety of activities designed for the 55+ community.
URL:https://staging.penderislandchamber.com/event/55-monday-activity-days/2028-02-28/
LOCATION:Community Hall\, 4418 Bedwell Harbour Rd\, Pender Island\, BC\, V0N 2M1\, Canada
END:VEVENT
BEGIN:VEVENT
DTSTART;TZID=America/Vancouver:20280303T100000
DTEND;TZID=America/Vancouver:20280303T130000
DTSTAMP:20260422T145446
CREATED:20260318T231119Z
LAST-MODIFIED:20260409T223056Z
UID:10000655-1835690400-1835701200@staging.penderislandchamber.com
SUMMARY:Community Gathering Lunch
DESCRIPTION:Mondays at the Community Hall. Engaging seniors and friends in our community. Various weekly activities with lunch at 12PM. Check the Pender Post for more details. Mondays at the Community Hall. Engaging seniors and friends in our community. Various weekly activities with lunch at 12PM. Check the Pender Post for more details. Mondays at the Community Hall. Engaging seniors and friends in our community. Various weekly activities with lunch at 12PM. Check the Pender Post for more details. Mondays at the Community Hall. Engaging seniors and friends in our community. Various weekly activities with lunch at 12PM. Check the Pender Post for more details.
URL:https://staging.penderislandchamber.com/event/community-gathering-lunch-2/2028-03-03/
LOCATION:Community Hall\, 4418 Bedwell Harbour Rd\, Pender Island\, BC\, V0N 2M1\, Canada
END:VEVENT
BEGIN:VEVENT
DTSTART;TZID=America/Vancouver:20280306T100000
DTEND;TZID=America/Vancouver:20280306T140000
DTSTAMP:20260422T145446
CREATED:20260318T231337Z
LAST-MODIFIED:20260318T235516Z
UID:10000916-1835949600-1835964000@staging.penderislandchamber.com
SUMMARY:55+ Monday Activity Days
DESCRIPTION:Stay active and social with a variety of activities designed for the 55+ community.
URL:https://staging.penderislandchamber.com/event/55-monday-activity-days/2028-03-06/
LOCATION:Community Hall\, 4418 Bedwell Harbour Rd\, Pender Island\, BC\, V0N 2M1\, Canada
END:VEVENT
BEGIN:VEVENT
DTSTART;TZID=America/Vancouver:20280310T100000
DTEND;TZID=America/Vancouver:20280310T130000
DTSTAMP:20260422T145446
CREATED:20260318T231119Z
LAST-MODIFIED:20260409T223056Z
UID:10000656-1836295200-1836306000@staging.penderislandchamber.com
SUMMARY:Community Gathering Lunch
DESCRIPTION:Mondays at the Community Hall. Engaging seniors and friends in our community. Various weekly activities with lunch at 12PM. Check the Pender Post for more details. Mondays at the Community Hall. Engaging seniors and friends in our community. Various weekly activities with lunch at 12PM. Check the Pender Post for more details. Mondays at the Community Hall. Engaging seniors and friends in our community. Various weekly activities with lunch at 12PM. Check the Pender Post for more details. Mondays at the Community Hall. Engaging seniors and friends in our community. Various weekly activities with lunch at 12PM. Check the Pender Post for more details.
URL:https://staging.penderislandchamber.com/event/community-gathering-lunch-2/2028-03-10/
LOCATION:Community Hall\, 4418 Bedwell Harbour Rd\, Pender Island\, BC\, V0N 2M1\, Canada
END:VEVENT
BEGIN:VEVENT
DTSTART;TZID=America/Vancouver:20280313T100000
DTEND;TZID=America/Vancouver:20280313T140000
DTSTAMP:20260422T145446
CREATED:20260318T231337Z
LAST-MODIFIED:20260318T235516Z
UID:10000917-1836554400-1836568800@staging.penderislandchamber.com
SUMMARY:55+ Monday Activity Days
DESCRIPTION:Stay active and social with a variety of activities designed for the 55+ community.
URL:https://staging.penderislandchamber.com/event/55-monday-activity-days/2028-03-13/
LOCATION:Community Hall\, 4418 Bedwell Harbour Rd\, Pender Island\, BC\, V0N 2M1\, Canada
END:VEVENT
BEGIN:VEVENT
DTSTART;TZID=America/Vancouver:20280317T100000
DTEND;TZID=America/Vancouver:20280317T130000
DTSTAMP:20260422T145446
CREATED:20260318T231119Z
LAST-MODIFIED:20260409T223056Z
UID:10000657-1836900000-1836910800@staging.penderislandchamber.com
SUMMARY:Community Gathering Lunch
DESCRIPTION:Mondays at the Community Hall. Engaging seniors and friends in our community. Various weekly activities with lunch at 12PM. Check the Pender Post for more details. Mondays at the Community Hall. Engaging seniors and friends in our community. Various weekly activities with lunch at 12PM. Check the Pender Post for more details. Mondays at the Community Hall. Engaging seniors and friends in our community. Various weekly activities with lunch at 12PM. Check the Pender Post for more details. Mondays at the Community Hall. Engaging seniors and friends in our community. Various weekly activities with lunch at 12PM. Check the Pender Post for more details.
URL:https://staging.penderislandchamber.com/event/community-gathering-lunch-2/2028-03-17/
LOCATION:Community Hall\, 4418 Bedwell Harbour Rd\, Pender Island\, BC\, V0N 2M1\, Canada
END:VEVENT
BEGIN:VEVENT
DTSTART;TZID=America/Vancouver:20280320T100000
DTEND;TZID=America/Vancouver:20280320T140000
DTSTAMP:20260422T145446
CREATED:20260318T231337Z
LAST-MODIFIED:20260318T235516Z
UID:10000918-1837159200-1837173600@staging.penderislandchamber.com
SUMMARY:55+ Monday Activity Days
DESCRIPTION:Stay active and social with a variety of activities designed for the 55+ community.
URL:https://staging.penderislandchamber.com/event/55-monday-activity-days/2028-03-20/
LOCATION:Community Hall\, 4418 Bedwell Harbour Rd\, Pender Island\, BC\, V0N 2M1\, Canada
END:VEVENT
BEGIN:VEVENT
DTSTART;TZID=America/Vancouver:20280324T100000
DTEND;TZID=America/Vancouver:20280324T130000
DTSTAMP:20260422T145446
CREATED:20260318T231119Z
LAST-MODIFIED:20260409T223056Z
UID:10000658-1837504800-1837515600@staging.penderislandchamber.com
SUMMARY:Community Gathering Lunch
DESCRIPTION:Mondays at the Community Hall. Engaging seniors and friends in our community. Various weekly activities with lunch at 12PM. Check the Pender Post for more details. Mondays at the Community Hall. Engaging seniors and friends in our community. Various weekly activities with lunch at 12PM. Check the Pender Post for more details. Mondays at the Community Hall. Engaging seniors and friends in our community. Various weekly activities with lunch at 12PM. Check the Pender Post for more details. Mondays at the Community Hall. Engaging seniors and friends in our community. Various weekly activities with lunch at 12PM. Check the Pender Post for more details.
URL:https://staging.penderislandchamber.com/event/community-gathering-lunch-2/2028-03-24/
LOCATION:Community Hall\, 4418 Bedwell Harbour Rd\, Pender Island\, BC\, V0N 2M1\, Canada
END:VEVENT
BEGIN:VEVENT
DTSTART;TZID=America/Vancouver:20280327T100000
DTEND;TZID=America/Vancouver:20280327T140000
DTSTAMP:20260422T145446
CREATED:20260318T231337Z
LAST-MODIFIED:20260318T235516Z
UID:10000919-1837764000-1837778400@staging.penderislandchamber.com
SUMMARY:55+ Monday Activity Days
DESCRIPTION:Stay active and social with a variety of activities designed for the 55+ community.
URL:https://staging.penderislandchamber.com/event/55-monday-activity-days/2028-03-27/
LOCATION:Community Hall\, 4418 Bedwell Harbour Rd\, Pender Island\, BC\, V0N 2M1\, Canada
END:VEVENT
BEGIN:VEVENT
DTSTART;TZID=America/Vancouver:20280331T100000
DTEND;TZID=America/Vancouver:20280331T130000
DTSTAMP:20260422T145446
CREATED:20260318T231119Z
LAST-MODIFIED:20260409T223056Z
UID:10000659-1838109600-1838120400@staging.penderislandchamber.com
SUMMARY:Community Gathering Lunch
DESCRIPTION:Mondays at the Community Hall. Engaging seniors and friends in our community. Various weekly activities with lunch at 12PM. Check the Pender Post for more details. Mondays at the Community Hall. Engaging seniors and friends in our community. Various weekly activities with lunch at 12PM. Check the Pender Post for more details. Mondays at the Community Hall. Engaging seniors and friends in our community. Various weekly activities with lunch at 12PM. Check the Pender Post for more details. Mondays at the Community Hall. Engaging seniors and friends in our community. Various weekly activities with lunch at 12PM. Check the Pender Post for more details.
URL:https://staging.penderislandchamber.com/event/community-gathering-lunch-2/2028-03-31/
LOCATION:Community Hall\, 4418 Bedwell Harbour Rd\, Pender Island\, BC\, V0N 2M1\, Canada
END:VEVENT
BEGIN:VEVENT
DTSTART;TZID=America/Vancouver:20280403T100000
DTEND;TZID=America/Vancouver:20280403T140000
DTSTAMP:20260422T145446
CREATED:20260318T231337Z
LAST-MODIFIED:20260318T235516Z
UID:10000920-1838368800-1838383200@staging.penderislandchamber.com
SUMMARY:55+ Monday Activity Days
DESCRIPTION:Stay active and social with a variety of activities designed for the 55+ community.
URL:https://staging.penderislandchamber.com/event/55-monday-activity-days/2028-04-03/
LOCATION:Community Hall\, 4418 Bedwell Harbour Rd\, Pender Island\, BC\, V0N 2M1\, Canada
END:VEVENT
BEGIN:VEVENT
DTSTART;TZID=America/Vancouver:20280407T100000
DTEND;TZID=America/Vancouver:20280407T130000
DTSTAMP:20260422T145446
CREATED:20260318T231119Z
LAST-MODIFIED:20260409T223056Z
UID:10000660-1838714400-1838725200@staging.penderislandchamber.com
SUMMARY:Community Gathering Lunch
DESCRIPTION:Mondays at the Community Hall. Engaging seniors and friends in our community. Various weekly activities with lunch at 12PM. Check the Pender Post for more details. Mondays at the Community Hall. Engaging seniors and friends in our community. Various weekly activities with lunch at 12PM. Check the Pender Post for more details. Mondays at the Community Hall. Engaging seniors and friends in our community. Various weekly activities with lunch at 12PM. Check the Pender Post for more details. Mondays at the Community Hall. Engaging seniors and friends in our community. Various weekly activities with lunch at 12PM. Check the Pender Post for more details.
URL:https://staging.penderislandchamber.com/event/community-gathering-lunch-2/2028-04-07/
LOCATION:Community Hall\, 4418 Bedwell Harbour Rd\, Pender Island\, BC\, V0N 2M1\, Canada
END:VEVENT
BEGIN:VEVENT
DTSTART;TZID=America/Vancouver:20280410T100000
DTEND;TZID=America/Vancouver:20280410T140000
DTSTAMP:20260422T145446
CREATED:20260318T231337Z
LAST-MODIFIED:20260318T235516Z
UID:10000921-1838973600-1838988000@staging.penderislandchamber.com
SUMMARY:55+ Monday Activity Days
DESCRIPTION:Stay active and social with a variety of activities designed for the 55+ community.
URL:https://staging.penderislandchamber.com/event/55-monday-activity-days/2028-04-10/
LOCATION:Community Hall\, 4418 Bedwell Harbour Rd\, Pender Island\, BC\, V0N 2M1\, Canada
END:VEVENT
BEGIN:VEVENT
DTSTART;TZID=America/Vancouver:20280414T100000
DTEND;TZID=America/Vancouver:20280414T130000
DTSTAMP:20260422T145446
CREATED:20260318T231119Z
LAST-MODIFIED:20260409T223056Z
UID:10000661-1839319200-1839330000@staging.penderislandchamber.com
SUMMARY:Community Gathering Lunch
DESCRIPTION:Mondays at the Community Hall. Engaging seniors and friends in our community. Various weekly activities with lunch at 12PM. Check the Pender Post for more details. Mondays at the Community Hall. Engaging seniors and friends in our community. Various weekly activities with lunch at 12PM. Check the Pender Post for more details. Mondays at the Community Hall. Engaging seniors and friends in our community. Various weekly activities with lunch at 12PM. Check the Pender Post for more details. Mondays at the Community Hall. Engaging seniors and friends in our community. Various weekly activities with lunch at 12PM. Check the Pender Post for more details.
URL:https://staging.penderislandchamber.com/event/community-gathering-lunch-2/2028-04-14/
LOCATION:Community Hall\, 4418 Bedwell Harbour Rd\, Pender Island\, BC\, V0N 2M1\, Canada
END:VEVENT
BEGIN:VEVENT
DTSTART;TZID=America/Vancouver:20280417T100000
DTEND;TZID=America/Vancouver:20280417T140000
DTSTAMP:20260422T145446
CREATED:20260318T231337Z
LAST-MODIFIED:20260318T235516Z
UID:10000922-1839578400-1839592800@staging.penderislandchamber.com
SUMMARY:55+ Monday Activity Days
DESCRIPTION:Stay active and social with a variety of activities designed for the 55+ community.
URL:https://staging.penderislandchamber.com/event/55-monday-activity-days/2028-04-17/
LOCATION:Community Hall\, 4418 Bedwell Harbour Rd\, Pender Island\, BC\, V0N 2M1\, Canada
END:VEVENT
BEGIN:VEVENT
DTSTART;TZID=America/Vancouver:20280421T100000
DTEND;TZID=America/Vancouver:20280421T130000
DTSTAMP:20260422T145446
CREATED:20260318T231119Z
LAST-MODIFIED:20260409T223056Z
UID:10000662-1839924000-1839934800@staging.penderislandchamber.com
SUMMARY:Community Gathering Lunch
DESCRIPTION:Mondays at the Community Hall. Engaging seniors and friends in our community. Various weekly activities with lunch at 12PM. Check the Pender Post for more details. Mondays at the Community Hall. Engaging seniors and friends in our community. Various weekly activities with lunch at 12PM. Check the Pender Post for more details. Mondays at the Community Hall. Engaging seniors and friends in our community. Various weekly activities with lunch at 12PM. Check the Pender Post for more details. Mondays at the Community Hall. Engaging seniors and friends in our community. Various weekly activities with lunch at 12PM. Check the Pender Post for more details.
URL:https://staging.penderislandchamber.com/event/community-gathering-lunch-2/2028-04-21/
LOCATION:Community Hall\, 4418 Bedwell Harbour Rd\, Pender Island\, BC\, V0N 2M1\, Canada
END:VEVENT
END:VCALENDAR