BEGIN:VCALENDAR
VERSION:2.0
PRODID:-//Pender Chamber - ECPv6.15.20//NONSGML v1.0//EN
CALSCALE:GREGORIAN
METHOD:PUBLISH
X-WR-CALNAME:Pender Chamber
X-ORIGINAL-URL:https://staging.penderislandchamber.com
X-WR-CALDESC:Events for Pender Chamber
REFRESH-INTERVAL;VALUE=DURATION:PT1H
X-Robots-Tag:noindex
X-PUBLISHED-TTL:PT1H
BEGIN:VTIMEZONE
TZID:America/Vancouver
BEGIN:DAYLIGHT
TZOFFSETFROM:-0800
TZOFFSETTO:-0700
TZNAME:PDT
DTSTART:20270314T100000
END:DAYLIGHT
BEGIN:STANDARD
TZOFFSETFROM:-0700
TZOFFSETTO:-0800
TZNAME:PST
DTSTART:20271107T090000
END:STANDARD
BEGIN:DAYLIGHT
TZOFFSETFROM:-0800
TZOFFSETTO:-0700
TZNAME:PDT
DTSTART:20280312T100000
END:DAYLIGHT
BEGIN:STANDARD
TZOFFSETFROM:-0700
TZOFFSETTO:-0800
TZNAME:PST
DTSTART:20281105T090000
END:STANDARD
BEGIN:DAYLIGHT
TZOFFSETFROM:-0800
TZOFFSETTO:-0700
TZNAME:PDT
DTSTART:20290311T100000
END:DAYLIGHT
BEGIN:STANDARD
TZOFFSETFROM:-0700
TZOFFSETTO:-0800
TZNAME:PST
DTSTART:20291104T090000
END:STANDARD
END:VTIMEZONE
BEGIN:VEVENT
DTSTART;TZID=America/Vancouver:20280515T100000
DTEND;TZID=America/Vancouver:20280515T140000
DTSTAMP:20260422T193648
CREATED:20260318T231337Z
LAST-MODIFIED:20260318T235516Z
UID:10000926-1841997600-1842012000@staging.penderislandchamber.com
SUMMARY:55+ Monday Activity Days
DESCRIPTION:Stay active and social with a variety of activities designed for the 55+ community.
URL:https://staging.penderislandchamber.com/event/55-monday-activity-days/2028-05-15/
LOCATION:Community Hall\, 4418 Bedwell Harbour Rd\, Pender Island\, BC\, V0N 2M1\, Canada
END:VEVENT
BEGIN:VEVENT
DTSTART;TZID=America/Vancouver:20280519T100000
DTEND;TZID=America/Vancouver:20280519T130000
DTSTAMP:20260422T193648
CREATED:20260318T231119Z
LAST-MODIFIED:20260409T223056Z
UID:10000666-1842343200-1842354000@staging.penderislandchamber.com
SUMMARY:Community Gathering Lunch
DESCRIPTION:Mondays at the Community Hall. Engaging seniors and friends in our community. Various weekly activities with lunch at 12PM. Check the Pender Post for more details. Mondays at the Community Hall. Engaging seniors and friends in our community. Various weekly activities with lunch at 12PM. Check the Pender Post for more details. Mondays at the Community Hall. Engaging seniors and friends in our community. Various weekly activities with lunch at 12PM. Check the Pender Post for more details. Mondays at the Community Hall. Engaging seniors and friends in our community. Various weekly activities with lunch at 12PM. Check the Pender Post for more details.
URL:https://staging.penderislandchamber.com/event/community-gathering-lunch-2/2028-05-19/
LOCATION:Community Hall\, 4418 Bedwell Harbour Rd\, Pender Island\, BC\, V0N 2M1\, Canada
END:VEVENT
BEGIN:VEVENT
DTSTART;TZID=America/Vancouver:20280522T100000
DTEND;TZID=America/Vancouver:20280522T140000
DTSTAMP:20260422T193648
CREATED:20260318T231337Z
LAST-MODIFIED:20260318T235516Z
UID:10000927-1842602400-1842616800@staging.penderislandchamber.com
SUMMARY:55+ Monday Activity Days
DESCRIPTION:Stay active and social with a variety of activities designed for the 55+ community.
URL:https://staging.penderislandchamber.com/event/55-monday-activity-days/2028-05-22/
LOCATION:Community Hall\, 4418 Bedwell Harbour Rd\, Pender Island\, BC\, V0N 2M1\, Canada
END:VEVENT
BEGIN:VEVENT
DTSTART;TZID=America/Vancouver:20280526T100000
DTEND;TZID=America/Vancouver:20280526T130000
DTSTAMP:20260422T193648
CREATED:20260318T231119Z
LAST-MODIFIED:20260409T223056Z
UID:10000667-1842948000-1842958800@staging.penderislandchamber.com
SUMMARY:Community Gathering Lunch
DESCRIPTION:Mondays at the Community Hall. Engaging seniors and friends in our community. Various weekly activities with lunch at 12PM. Check the Pender Post for more details. Mondays at the Community Hall. Engaging seniors and friends in our community. Various weekly activities with lunch at 12PM. Check the Pender Post for more details. Mondays at the Community Hall. Engaging seniors and friends in our community. Various weekly activities with lunch at 12PM. Check the Pender Post for more details. Mondays at the Community Hall. Engaging seniors and friends in our community. Various weekly activities with lunch at 12PM. Check the Pender Post for more details.
URL:https://staging.penderislandchamber.com/event/community-gathering-lunch-2/2028-05-26/
LOCATION:Community Hall\, 4418 Bedwell Harbour Rd\, Pender Island\, BC\, V0N 2M1\, Canada
END:VEVENT
BEGIN:VEVENT
DTSTART;TZID=America/Vancouver:20280529T100000
DTEND;TZID=America/Vancouver:20280529T140000
DTSTAMP:20260422T193648
CREATED:20260318T231337Z
LAST-MODIFIED:20260318T235516Z
UID:10000928-1843207200-1843221600@staging.penderislandchamber.com
SUMMARY:55+ Monday Activity Days
DESCRIPTION:Stay active and social with a variety of activities designed for the 55+ community.
URL:https://staging.penderislandchamber.com/event/55-monday-activity-days/2028-05-29/
LOCATION:Community Hall\, 4418 Bedwell Harbour Rd\, Pender Island\, BC\, V0N 2M1\, Canada
END:VEVENT
BEGIN:VEVENT
DTSTART;TZID=America/Vancouver:20280602T100000
DTEND;TZID=America/Vancouver:20280602T130000
DTSTAMP:20260422T193648
CREATED:20260318T231119Z
LAST-MODIFIED:20260409T223056Z
UID:10000668-1843552800-1843563600@staging.penderislandchamber.com
SUMMARY:Community Gathering Lunch
DESCRIPTION:Mondays at the Community Hall. Engaging seniors and friends in our community. Various weekly activities with lunch at 12PM. Check the Pender Post for more details. Mondays at the Community Hall. Engaging seniors and friends in our community. Various weekly activities with lunch at 12PM. Check the Pender Post for more details. Mondays at the Community Hall. Engaging seniors and friends in our community. Various weekly activities with lunch at 12PM. Check the Pender Post for more details. Mondays at the Community Hall. Engaging seniors and friends in our community. Various weekly activities with lunch at 12PM. Check the Pender Post for more details.
URL:https://staging.penderislandchamber.com/event/community-gathering-lunch-2/2028-06-02/
LOCATION:Community Hall\, 4418 Bedwell Harbour Rd\, Pender Island\, BC\, V0N 2M1\, Canada
END:VEVENT
BEGIN:VEVENT
DTSTART;TZID=America/Vancouver:20280605T100000
DTEND;TZID=America/Vancouver:20280605T140000
DTSTAMP:20260422T193648
CREATED:20260318T231337Z
LAST-MODIFIED:20260318T235516Z
UID:10000929-1843812000-1843826400@staging.penderislandchamber.com
SUMMARY:55+ Monday Activity Days
DESCRIPTION:Stay active and social with a variety of activities designed for the 55+ community.
URL:https://staging.penderislandchamber.com/event/55-monday-activity-days/2028-06-05/
LOCATION:Community Hall\, 4418 Bedwell Harbour Rd\, Pender Island\, BC\, V0N 2M1\, Canada
END:VEVENT
BEGIN:VEVENT
DTSTART;TZID=America/Vancouver:20280609T100000
DTEND;TZID=America/Vancouver:20280609T130000
DTSTAMP:20260422T193648
CREATED:20260318T231119Z
LAST-MODIFIED:20260409T223056Z
UID:10000669-1844157600-1844168400@staging.penderislandchamber.com
SUMMARY:Community Gathering Lunch
DESCRIPTION:Mondays at the Community Hall. Engaging seniors and friends in our community. Various weekly activities with lunch at 12PM. Check the Pender Post for more details. Mondays at the Community Hall. Engaging seniors and friends in our community. Various weekly activities with lunch at 12PM. Check the Pender Post for more details. Mondays at the Community Hall. Engaging seniors and friends in our community. Various weekly activities with lunch at 12PM. Check the Pender Post for more details. Mondays at the Community Hall. Engaging seniors and friends in our community. Various weekly activities with lunch at 12PM. Check the Pender Post for more details.
URL:https://staging.penderislandchamber.com/event/community-gathering-lunch-2/2028-06-09/
LOCATION:Community Hall\, 4418 Bedwell Harbour Rd\, Pender Island\, BC\, V0N 2M1\, Canada
END:VEVENT
BEGIN:VEVENT
DTSTART;TZID=America/Vancouver:20280612T100000
DTEND;TZID=America/Vancouver:20280612T140000
DTSTAMP:20260422T193648
CREATED:20260318T231337Z
LAST-MODIFIED:20260318T235516Z
UID:10000930-1844416800-1844431200@staging.penderislandchamber.com
SUMMARY:55+ Monday Activity Days
DESCRIPTION:Stay active and social with a variety of activities designed for the 55+ community.
URL:https://staging.penderislandchamber.com/event/55-monday-activity-days/2028-06-12/
LOCATION:Community Hall\, 4418 Bedwell Harbour Rd\, Pender Island\, BC\, V0N 2M1\, Canada
END:VEVENT
BEGIN:VEVENT
DTSTART;TZID=America/Vancouver:20280616T100000
DTEND;TZID=America/Vancouver:20280616T130000
DTSTAMP:20260422T193648
CREATED:20260318T231119Z
LAST-MODIFIED:20260409T223056Z
UID:10000670-1844762400-1844773200@staging.penderislandchamber.com
SUMMARY:Community Gathering Lunch
DESCRIPTION:Mondays at the Community Hall. Engaging seniors and friends in our community. Various weekly activities with lunch at 12PM. Check the Pender Post for more details. Mondays at the Community Hall. Engaging seniors and friends in our community. Various weekly activities with lunch at 12PM. Check the Pender Post for more details. Mondays at the Community Hall. Engaging seniors and friends in our community. Various weekly activities with lunch at 12PM. Check the Pender Post for more details. Mondays at the Community Hall. Engaging seniors and friends in our community. Various weekly activities with lunch at 12PM. Check the Pender Post for more details.
URL:https://staging.penderislandchamber.com/event/community-gathering-lunch-2/2028-06-16/
LOCATION:Community Hall\, 4418 Bedwell Harbour Rd\, Pender Island\, BC\, V0N 2M1\, Canada
END:VEVENT
BEGIN:VEVENT
DTSTART;TZID=America/Vancouver:20280619T100000
DTEND;TZID=America/Vancouver:20280619T140000
DTSTAMP:20260422T193648
CREATED:20260318T231337Z
LAST-MODIFIED:20260318T235516Z
UID:10000931-1845021600-1845036000@staging.penderislandchamber.com
SUMMARY:55+ Monday Activity Days
DESCRIPTION:Stay active and social with a variety of activities designed for the 55+ community.
URL:https://staging.penderislandchamber.com/event/55-monday-activity-days/2028-06-19/
LOCATION:Community Hall\, 4418 Bedwell Harbour Rd\, Pender Island\, BC\, V0N 2M1\, Canada
END:VEVENT
BEGIN:VEVENT
DTSTART;TZID=America/Vancouver:20280623T100000
DTEND;TZID=America/Vancouver:20280623T130000
DTSTAMP:20260422T193648
CREATED:20260318T231119Z
LAST-MODIFIED:20260409T223056Z
UID:10000671-1845367200-1845378000@staging.penderislandchamber.com
SUMMARY:Community Gathering Lunch
DESCRIPTION:Mondays at the Community Hall. Engaging seniors and friends in our community. Various weekly activities with lunch at 12PM. Check the Pender Post for more details. Mondays at the Community Hall. Engaging seniors and friends in our community. Various weekly activities with lunch at 12PM. Check the Pender Post for more details. Mondays at the Community Hall. Engaging seniors and friends in our community. Various weekly activities with lunch at 12PM. Check the Pender Post for more details. Mondays at the Community Hall. Engaging seniors and friends in our community. Various weekly activities with lunch at 12PM. Check the Pender Post for more details.
URL:https://staging.penderislandchamber.com/event/community-gathering-lunch-2/2028-06-23/
LOCATION:Community Hall\, 4418 Bedwell Harbour Rd\, Pender Island\, BC\, V0N 2M1\, Canada
END:VEVENT
BEGIN:VEVENT
DTSTART;TZID=America/Vancouver:20280626T100000
DTEND;TZID=America/Vancouver:20280626T140000
DTSTAMP:20260422T193648
CREATED:20260318T231337Z
LAST-MODIFIED:20260318T235516Z
UID:10000932-1845626400-1845640800@staging.penderislandchamber.com
SUMMARY:55+ Monday Activity Days
DESCRIPTION:Stay active and social with a variety of activities designed for the 55+ community.
URL:https://staging.penderislandchamber.com/event/55-monday-activity-days/2028-06-26/
LOCATION:Community Hall\, 4418 Bedwell Harbour Rd\, Pender Island\, BC\, V0N 2M1\, Canada
END:VEVENT
BEGIN:VEVENT
DTSTART;TZID=America/Vancouver:20280630T100000
DTEND;TZID=America/Vancouver:20280630T130000
DTSTAMP:20260422T193648
CREATED:20260318T231119Z
LAST-MODIFIED:20260409T223056Z
UID:10000672-1845972000-1845982800@staging.penderislandchamber.com
SUMMARY:Community Gathering Lunch
DESCRIPTION:Mondays at the Community Hall. Engaging seniors and friends in our community. Various weekly activities with lunch at 12PM. Check the Pender Post for more details. Mondays at the Community Hall. Engaging seniors and friends in our community. Various weekly activities with lunch at 12PM. Check the Pender Post for more details. Mondays at the Community Hall. Engaging seniors and friends in our community. Various weekly activities with lunch at 12PM. Check the Pender Post for more details. Mondays at the Community Hall. Engaging seniors and friends in our community. Various weekly activities with lunch at 12PM. Check the Pender Post for more details.
URL:https://staging.penderislandchamber.com/event/community-gathering-lunch-2/2028-06-30/
LOCATION:Community Hall\, 4418 Bedwell Harbour Rd\, Pender Island\, BC\, V0N 2M1\, Canada
END:VEVENT
BEGIN:VEVENT
DTSTART;TZID=America/Vancouver:20280703T100000
DTEND;TZID=America/Vancouver:20280703T140000
DTSTAMP:20260422T193648
CREATED:20260318T231337Z
LAST-MODIFIED:20260318T235516Z
UID:10000933-1846231200-1846245600@staging.penderislandchamber.com
SUMMARY:55+ Monday Activity Days
DESCRIPTION:Stay active and social with a variety of activities designed for the 55+ community.
URL:https://staging.penderislandchamber.com/event/55-monday-activity-days/2028-07-03/
LOCATION:Community Hall\, 4418 Bedwell Harbour Rd\, Pender Island\, BC\, V0N 2M1\, Canada
END:VEVENT
BEGIN:VEVENT
DTSTART;TZID=America/Vancouver:20280707T100000
DTEND;TZID=America/Vancouver:20280707T130000
DTSTAMP:20260422T193648
CREATED:20260318T231119Z
LAST-MODIFIED:20260409T223056Z
UID:10000673-1846576800-1846587600@staging.penderislandchamber.com
SUMMARY:Community Gathering Lunch
DESCRIPTION:Mondays at the Community Hall. Engaging seniors and friends in our community. Various weekly activities with lunch at 12PM. Check the Pender Post for more details. Mondays at the Community Hall. Engaging seniors and friends in our community. Various weekly activities with lunch at 12PM. Check the Pender Post for more details. Mondays at the Community Hall. Engaging seniors and friends in our community. Various weekly activities with lunch at 12PM. Check the Pender Post for more details. Mondays at the Community Hall. Engaging seniors and friends in our community. Various weekly activities with lunch at 12PM. Check the Pender Post for more details.
URL:https://staging.penderislandchamber.com/event/community-gathering-lunch-2/2028-07-07/
LOCATION:Community Hall\, 4418 Bedwell Harbour Rd\, Pender Island\, BC\, V0N 2M1\, Canada
END:VEVENT
BEGIN:VEVENT
DTSTART;TZID=America/Vancouver:20280710T100000
DTEND;TZID=America/Vancouver:20280710T140000
DTSTAMP:20260422T193648
CREATED:20260318T231337Z
LAST-MODIFIED:20260318T235516Z
UID:10000934-1846836000-1846850400@staging.penderislandchamber.com
SUMMARY:55+ Monday Activity Days
DESCRIPTION:Stay active and social with a variety of activities designed for the 55+ community.
URL:https://staging.penderislandchamber.com/event/55-monday-activity-days/2028-07-10/
LOCATION:Community Hall\, 4418 Bedwell Harbour Rd\, Pender Island\, BC\, V0N 2M1\, Canada
END:VEVENT
BEGIN:VEVENT
DTSTART;TZID=America/Vancouver:20280714T100000
DTEND;TZID=America/Vancouver:20280714T130000
DTSTAMP:20260422T193648
CREATED:20260318T231119Z
LAST-MODIFIED:20260409T223056Z
UID:10000674-1847181600-1847192400@staging.penderislandchamber.com
SUMMARY:Community Gathering Lunch
DESCRIPTION:Mondays at the Community Hall. Engaging seniors and friends in our community. Various weekly activities with lunch at 12PM. Check the Pender Post for more details. Mondays at the Community Hall. Engaging seniors and friends in our community. Various weekly activities with lunch at 12PM. Check the Pender Post for more details. Mondays at the Community Hall. Engaging seniors and friends in our community. Various weekly activities with lunch at 12PM. Check the Pender Post for more details. Mondays at the Community Hall. Engaging seniors and friends in our community. Various weekly activities with lunch at 12PM. Check the Pender Post for more details.
URL:https://staging.penderislandchamber.com/event/community-gathering-lunch-2/2028-07-14/
LOCATION:Community Hall\, 4418 Bedwell Harbour Rd\, Pender Island\, BC\, V0N 2M1\, Canada
END:VEVENT
BEGIN:VEVENT
DTSTART;TZID=America/Vancouver:20280717T100000
DTEND;TZID=America/Vancouver:20280717T140000
DTSTAMP:20260422T193648
CREATED:20260318T231337Z
LAST-MODIFIED:20260318T235516Z
UID:10000935-1847440800-1847455200@staging.penderislandchamber.com
SUMMARY:55+ Monday Activity Days
DESCRIPTION:Stay active and social with a variety of activities designed for the 55+ community.
URL:https://staging.penderislandchamber.com/event/55-monday-activity-days/2028-07-17/
LOCATION:Community Hall\, 4418 Bedwell Harbour Rd\, Pender Island\, BC\, V0N 2M1\, Canada
END:VEVENT
BEGIN:VEVENT
DTSTART;TZID=America/Vancouver:20280721T100000
DTEND;TZID=America/Vancouver:20280721T130000
DTSTAMP:20260422T193648
CREATED:20260318T231119Z
LAST-MODIFIED:20260409T223056Z
UID:10000675-1847786400-1847797200@staging.penderislandchamber.com
SUMMARY:Community Gathering Lunch
DESCRIPTION:Mondays at the Community Hall. Engaging seniors and friends in our community. Various weekly activities with lunch at 12PM. Check the Pender Post for more details. Mondays at the Community Hall. Engaging seniors and friends in our community. Various weekly activities with lunch at 12PM. Check the Pender Post for more details. Mondays at the Community Hall. Engaging seniors and friends in our community. Various weekly activities with lunch at 12PM. Check the Pender Post for more details. Mondays at the Community Hall. Engaging seniors and friends in our community. Various weekly activities with lunch at 12PM. Check the Pender Post for more details.
URL:https://staging.penderislandchamber.com/event/community-gathering-lunch-2/2028-07-21/
LOCATION:Community Hall\, 4418 Bedwell Harbour Rd\, Pender Island\, BC\, V0N 2M1\, Canada
END:VEVENT
BEGIN:VEVENT
DTSTART;TZID=America/Vancouver:20280724T100000
DTEND;TZID=America/Vancouver:20280724T140000
DTSTAMP:20260422T193648
CREATED:20260318T231337Z
LAST-MODIFIED:20260318T235516Z
UID:10000936-1848045600-1848060000@staging.penderislandchamber.com
SUMMARY:55+ Monday Activity Days
DESCRIPTION:Stay active and social with a variety of activities designed for the 55+ community.
URL:https://staging.penderislandchamber.com/event/55-monday-activity-days/2028-07-24/
LOCATION:Community Hall\, 4418 Bedwell Harbour Rd\, Pender Island\, BC\, V0N 2M1\, Canada
END:VEVENT
BEGIN:VEVENT
DTSTART;TZID=America/Vancouver:20280728T100000
DTEND;TZID=America/Vancouver:20280728T130000
DTSTAMP:20260422T193648
CREATED:20260318T231119Z
LAST-MODIFIED:20260409T223056Z
UID:10000676-1848391200-1848402000@staging.penderislandchamber.com
SUMMARY:Community Gathering Lunch
DESCRIPTION:Mondays at the Community Hall. Engaging seniors and friends in our community. Various weekly activities with lunch at 12PM. Check the Pender Post for more details. Mondays at the Community Hall. Engaging seniors and friends in our community. Various weekly activities with lunch at 12PM. Check the Pender Post for more details. Mondays at the Community Hall. Engaging seniors and friends in our community. Various weekly activities with lunch at 12PM. Check the Pender Post for more details. Mondays at the Community Hall. Engaging seniors and friends in our community. Various weekly activities with lunch at 12PM. Check the Pender Post for more details.
URL:https://staging.penderislandchamber.com/event/community-gathering-lunch-2/2028-07-28/
LOCATION:Community Hall\, 4418 Bedwell Harbour Rd\, Pender Island\, BC\, V0N 2M1\, Canada
END:VEVENT
BEGIN:VEVENT
DTSTART;TZID=America/Vancouver:20280731T100000
DTEND;TZID=America/Vancouver:20280731T140000
DTSTAMP:20260422T193648
CREATED:20260318T231337Z
LAST-MODIFIED:20260318T235516Z
UID:10000937-1848650400-1848664800@staging.penderislandchamber.com
SUMMARY:55+ Monday Activity Days
DESCRIPTION:Stay active and social with a variety of activities designed for the 55+ community.
URL:https://staging.penderislandchamber.com/event/55-monday-activity-days/2028-07-31/
LOCATION:Community Hall\, 4418 Bedwell Harbour Rd\, Pender Island\, BC\, V0N 2M1\, Canada
END:VEVENT
BEGIN:VEVENT
DTSTART;TZID=America/Vancouver:20280804T100000
DTEND;TZID=America/Vancouver:20280804T130000
DTSTAMP:20260422T193648
CREATED:20260318T231119Z
LAST-MODIFIED:20260409T223056Z
UID:10000677-1848996000-1849006800@staging.penderislandchamber.com
SUMMARY:Community Gathering Lunch
DESCRIPTION:Mondays at the Community Hall. Engaging seniors and friends in our community. Various weekly activities with lunch at 12PM. Check the Pender Post for more details. Mondays at the Community Hall. Engaging seniors and friends in our community. Various weekly activities with lunch at 12PM. Check the Pender Post for more details. Mondays at the Community Hall. Engaging seniors and friends in our community. Various weekly activities with lunch at 12PM. Check the Pender Post for more details. Mondays at the Community Hall. Engaging seniors and friends in our community. Various weekly activities with lunch at 12PM. Check the Pender Post for more details.
URL:https://staging.penderislandchamber.com/event/community-gathering-lunch-2/2028-08-04/
LOCATION:Community Hall\, 4418 Bedwell Harbour Rd\, Pender Island\, BC\, V0N 2M1\, Canada
END:VEVENT
BEGIN:VEVENT
DTSTART;TZID=America/Vancouver:20280807T100000
DTEND;TZID=America/Vancouver:20280807T140000
DTSTAMP:20260422T193648
CREATED:20260318T231337Z
LAST-MODIFIED:20260318T235516Z
UID:10000938-1849255200-1849269600@staging.penderislandchamber.com
SUMMARY:55+ Monday Activity Days
DESCRIPTION:Stay active and social with a variety of activities designed for the 55+ community.
URL:https://staging.penderislandchamber.com/event/55-monday-activity-days/2028-08-07/
LOCATION:Community Hall\, 4418 Bedwell Harbour Rd\, Pender Island\, BC\, V0N 2M1\, Canada
END:VEVENT
BEGIN:VEVENT
DTSTART;TZID=America/Vancouver:20280811T100000
DTEND;TZID=America/Vancouver:20280811T130000
DTSTAMP:20260422T193648
CREATED:20260318T231119Z
LAST-MODIFIED:20260409T223056Z
UID:10000678-1849600800-1849611600@staging.penderislandchamber.com
SUMMARY:Community Gathering Lunch
DESCRIPTION:Mondays at the Community Hall. Engaging seniors and friends in our community. Various weekly activities with lunch at 12PM. Check the Pender Post for more details. Mondays at the Community Hall. Engaging seniors and friends in our community. Various weekly activities with lunch at 12PM. Check the Pender Post for more details. Mondays at the Community Hall. Engaging seniors and friends in our community. Various weekly activities with lunch at 12PM. Check the Pender Post for more details. Mondays at the Community Hall. Engaging seniors and friends in our community. Various weekly activities with lunch at 12PM. Check the Pender Post for more details.
URL:https://staging.penderislandchamber.com/event/community-gathering-lunch-2/2028-08-11/
LOCATION:Community Hall\, 4418 Bedwell Harbour Rd\, Pender Island\, BC\, V0N 2M1\, Canada
END:VEVENT
BEGIN:VEVENT
DTSTART;TZID=America/Vancouver:20280814T100000
DTEND;TZID=America/Vancouver:20280814T140000
DTSTAMP:20260422T193648
CREATED:20260318T231337Z
LAST-MODIFIED:20260318T235516Z
UID:10000939-1849860000-1849874400@staging.penderislandchamber.com
SUMMARY:55+ Monday Activity Days
DESCRIPTION:Stay active and social with a variety of activities designed for the 55+ community.
URL:https://staging.penderislandchamber.com/event/55-monday-activity-days/2028-08-14/
LOCATION:Community Hall\, 4418 Bedwell Harbour Rd\, Pender Island\, BC\, V0N 2M1\, Canada
END:VEVENT
BEGIN:VEVENT
DTSTART;TZID=America/Vancouver:20280818T100000
DTEND;TZID=America/Vancouver:20280818T130000
DTSTAMP:20260422T193648
CREATED:20260318T231119Z
LAST-MODIFIED:20260409T223056Z
UID:10000679-1850205600-1850216400@staging.penderislandchamber.com
SUMMARY:Community Gathering Lunch
DESCRIPTION:Mondays at the Community Hall. Engaging seniors and friends in our community. Various weekly activities with lunch at 12PM. Check the Pender Post for more details. Mondays at the Community Hall. Engaging seniors and friends in our community. Various weekly activities with lunch at 12PM. Check the Pender Post for more details. Mondays at the Community Hall. Engaging seniors and friends in our community. Various weekly activities with lunch at 12PM. Check the Pender Post for more details. Mondays at the Community Hall. Engaging seniors and friends in our community. Various weekly activities with lunch at 12PM. Check the Pender Post for more details.
URL:https://staging.penderislandchamber.com/event/community-gathering-lunch-2/2028-08-18/
LOCATION:Community Hall\, 4418 Bedwell Harbour Rd\, Pender Island\, BC\, V0N 2M1\, Canada
END:VEVENT
BEGIN:VEVENT
DTSTART;TZID=America/Vancouver:20280821T100000
DTEND;TZID=America/Vancouver:20280821T140000
DTSTAMP:20260422T193648
CREATED:20260318T231337Z
LAST-MODIFIED:20260318T235516Z
UID:10000940-1850464800-1850479200@staging.penderislandchamber.com
SUMMARY:55+ Monday Activity Days
DESCRIPTION:Stay active and social with a variety of activities designed for the 55+ community.
URL:https://staging.penderislandchamber.com/event/55-monday-activity-days/2028-08-21/
LOCATION:Community Hall\, 4418 Bedwell Harbour Rd\, Pender Island\, BC\, V0N 2M1\, Canada
END:VEVENT
BEGIN:VEVENT
DTSTART;TZID=America/Vancouver:20280825T100000
DTEND;TZID=America/Vancouver:20280825T130000
DTSTAMP:20260422T193648
CREATED:20260318T231119Z
LAST-MODIFIED:20260409T223056Z
UID:10000680-1850810400-1850821200@staging.penderislandchamber.com
SUMMARY:Community Gathering Lunch
DESCRIPTION:Mondays at the Community Hall. Engaging seniors and friends in our community. Various weekly activities with lunch at 12PM. Check the Pender Post for more details. Mondays at the Community Hall. Engaging seniors and friends in our community. Various weekly activities with lunch at 12PM. Check the Pender Post for more details. Mondays at the Community Hall. Engaging seniors and friends in our community. Various weekly activities with lunch at 12PM. Check the Pender Post for more details. Mondays at the Community Hall. Engaging seniors and friends in our community. Various weekly activities with lunch at 12PM. Check the Pender Post for more details.
URL:https://staging.penderislandchamber.com/event/community-gathering-lunch-2/2028-08-25/
LOCATION:Community Hall\, 4418 Bedwell Harbour Rd\, Pender Island\, BC\, V0N 2M1\, Canada
END:VEVENT
END:VCALENDAR