BEGIN:VCALENDAR
VERSION:2.0
PRODID:-//Pender Chamber - ECPv6.15.20//NONSGML v1.0//EN
CALSCALE:GREGORIAN
METHOD:PUBLISH
X-WR-CALNAME:Pender Chamber
X-ORIGINAL-URL:https://staging.penderislandchamber.com
X-WR-CALDESC:Events for Pender Chamber
REFRESH-INTERVAL;VALUE=DURATION:PT1H
X-Robots-Tag:noindex
X-PUBLISHED-TTL:PT1H
BEGIN:VTIMEZONE
TZID:America/Vancouver
BEGIN:DAYLIGHT
TZOFFSETFROM:-0800
TZOFFSETTO:-0700
TZNAME:PDT
DTSTART:20250309T100000
END:DAYLIGHT
BEGIN:STANDARD
TZOFFSETFROM:-0700
TZOFFSETTO:-0800
TZNAME:PST
DTSTART:20251102T090000
END:STANDARD
BEGIN:DAYLIGHT
TZOFFSETFROM:-0800
TZOFFSETTO:-0700
TZNAME:PDT
DTSTART:20260308T100000
END:DAYLIGHT
BEGIN:STANDARD
TZOFFSETFROM:-0700
TZOFFSETTO:-0800
TZNAME:PST
DTSTART:20261101T090000
END:STANDARD
BEGIN:DAYLIGHT
TZOFFSETFROM:-0800
TZOFFSETTO:-0700
TZNAME:PDT
DTSTART:20270314T100000
END:DAYLIGHT
BEGIN:STANDARD
TZOFFSETFROM:-0700
TZOFFSETTO:-0800
TZNAME:PST
DTSTART:20271107T090000
END:STANDARD
BEGIN:DAYLIGHT
TZOFFSETFROM:-0800
TZOFFSETTO:-0700
TZNAME:PDT
DTSTART:20280312T100000
END:DAYLIGHT
BEGIN:STANDARD
TZOFFSETFROM:-0700
TZOFFSETTO:-0800
TZNAME:PST
DTSTART:20281105T090000
END:STANDARD
END:VTIMEZONE
BEGIN:VEVENT
DTSTART;TZID=America/Vancouver:20261225T100000
DTEND;TZID=America/Vancouver:20261225T130000
DTSTAMP:20260420T115205
CREATED:20260318T231119Z
LAST-MODIFIED:20260409T223056Z
UID:10000593-1798192800-1798203600@staging.penderislandchamber.com
SUMMARY:Community Gathering Lunch
DESCRIPTION:Mondays at the Community Hall. Engaging seniors and friends in our community. Various weekly activities with lunch at 12PM. Check the Pender Post for more details. Mondays at the Community Hall. Engaging seniors and friends in our community. Various weekly activities with lunch at 12PM. Check the Pender Post for more details. Mondays at the Community Hall. Engaging seniors and friends in our community. Various weekly activities with lunch at 12PM. Check the Pender Post for more details. Mondays at the Community Hall. Engaging seniors and friends in our community. Various weekly activities with lunch at 12PM. Check the Pender Post for more details.
URL:https://staging.penderislandchamber.com/event/community-gathering-lunch-2/2026-12-25/
LOCATION:Community Hall\, 4418 Bedwell Harbour Rd\, Pender Island\, BC\, V0N 2M1\, Canada
END:VEVENT
BEGIN:VEVENT
DTSTART;TZID=America/Vancouver:20261228T100000
DTEND;TZID=America/Vancouver:20261228T140000
DTSTAMP:20260420T115205
CREATED:20260318T231337Z
LAST-MODIFIED:20260318T235516Z
UID:10000854-1798452000-1798466400@staging.penderislandchamber.com
SUMMARY:55+ Monday Activity Days
DESCRIPTION:Stay active and social with a variety of activities designed for the 55+ community.
URL:https://staging.penderislandchamber.com/event/55-monday-activity-days/2026-12-28/
LOCATION:Community Hall\, 4418 Bedwell Harbour Rd\, Pender Island\, BC\, V0N 2M1\, Canada
END:VEVENT
BEGIN:VEVENT
DTSTART;TZID=America/Vancouver:20270101T100000
DTEND;TZID=America/Vancouver:20270101T130000
DTSTAMP:20260420T115205
CREATED:20260318T231119Z
LAST-MODIFIED:20260409T223056Z
UID:10000594-1798797600-1798808400@staging.penderislandchamber.com
SUMMARY:Community Gathering Lunch
DESCRIPTION:Mondays at the Community Hall. Engaging seniors and friends in our community. Various weekly activities with lunch at 12PM. Check the Pender Post for more details. Mondays at the Community Hall. Engaging seniors and friends in our community. Various weekly activities with lunch at 12PM. Check the Pender Post for more details. Mondays at the Community Hall. Engaging seniors and friends in our community. Various weekly activities with lunch at 12PM. Check the Pender Post for more details. Mondays at the Community Hall. Engaging seniors and friends in our community. Various weekly activities with lunch at 12PM. Check the Pender Post for more details.
URL:https://staging.penderislandchamber.com/event/community-gathering-lunch-2/2027-01-01/
LOCATION:Community Hall\, 4418 Bedwell Harbour Rd\, Pender Island\, BC\, V0N 2M1\, Canada
END:VEVENT
BEGIN:VEVENT
DTSTART;TZID=America/Vancouver:20270104T100000
DTEND;TZID=America/Vancouver:20270104T140000
DTSTAMP:20260420T115205
CREATED:20260318T231337Z
LAST-MODIFIED:20260318T235516Z
UID:10000855-1799056800-1799071200@staging.penderislandchamber.com
SUMMARY:55+ Monday Activity Days
DESCRIPTION:Stay active and social with a variety of activities designed for the 55+ community.
URL:https://staging.penderislandchamber.com/event/55-monday-activity-days/2027-01-04/
LOCATION:Community Hall\, 4418 Bedwell Harbour Rd\, Pender Island\, BC\, V0N 2M1\, Canada
END:VEVENT
BEGIN:VEVENT
DTSTART;TZID=America/Vancouver:20270108T100000
DTEND;TZID=America/Vancouver:20270108T130000
DTSTAMP:20260420T115205
CREATED:20260318T231119Z
LAST-MODIFIED:20260409T223056Z
UID:10000595-1799402400-1799413200@staging.penderislandchamber.com
SUMMARY:Community Gathering Lunch
DESCRIPTION:Mondays at the Community Hall. Engaging seniors and friends in our community. Various weekly activities with lunch at 12PM. Check the Pender Post for more details. Mondays at the Community Hall. Engaging seniors and friends in our community. Various weekly activities with lunch at 12PM. Check the Pender Post for more details. Mondays at the Community Hall. Engaging seniors and friends in our community. Various weekly activities with lunch at 12PM. Check the Pender Post for more details. Mondays at the Community Hall. Engaging seniors and friends in our community. Various weekly activities with lunch at 12PM. Check the Pender Post for more details.
URL:https://staging.penderislandchamber.com/event/community-gathering-lunch-2/2027-01-08/
LOCATION:Community Hall\, 4418 Bedwell Harbour Rd\, Pender Island\, BC\, V0N 2M1\, Canada
END:VEVENT
BEGIN:VEVENT
DTSTART;TZID=America/Vancouver:20270111T100000
DTEND;TZID=America/Vancouver:20270111T140000
DTSTAMP:20260420T115205
CREATED:20260318T231337Z
LAST-MODIFIED:20260318T235516Z
UID:10000856-1799661600-1799676000@staging.penderislandchamber.com
SUMMARY:55+ Monday Activity Days
DESCRIPTION:Stay active and social with a variety of activities designed for the 55+ community.
URL:https://staging.penderislandchamber.com/event/55-monday-activity-days/2027-01-11/
LOCATION:Community Hall\, 4418 Bedwell Harbour Rd\, Pender Island\, BC\, V0N 2M1\, Canada
END:VEVENT
BEGIN:VEVENT
DTSTART;TZID=America/Vancouver:20270115T100000
DTEND;TZID=America/Vancouver:20270115T130000
DTSTAMP:20260420T115205
CREATED:20260318T231119Z
LAST-MODIFIED:20260409T223056Z
UID:10000596-1800007200-1800018000@staging.penderislandchamber.com
SUMMARY:Community Gathering Lunch
DESCRIPTION:Mondays at the Community Hall. Engaging seniors and friends in our community. Various weekly activities with lunch at 12PM. Check the Pender Post for more details. Mondays at the Community Hall. Engaging seniors and friends in our community. Various weekly activities with lunch at 12PM. Check the Pender Post for more details. Mondays at the Community Hall. Engaging seniors and friends in our community. Various weekly activities with lunch at 12PM. Check the Pender Post for more details. Mondays at the Community Hall. Engaging seniors and friends in our community. Various weekly activities with lunch at 12PM. Check the Pender Post for more details.
URL:https://staging.penderislandchamber.com/event/community-gathering-lunch-2/2027-01-15/
LOCATION:Community Hall\, 4418 Bedwell Harbour Rd\, Pender Island\, BC\, V0N 2M1\, Canada
END:VEVENT
BEGIN:VEVENT
DTSTART;TZID=America/Vancouver:20270118T100000
DTEND;TZID=America/Vancouver:20270118T140000
DTSTAMP:20260420T115205
CREATED:20260318T231337Z
LAST-MODIFIED:20260318T235516Z
UID:10000857-1800266400-1800280800@staging.penderislandchamber.com
SUMMARY:55+ Monday Activity Days
DESCRIPTION:Stay active and social with a variety of activities designed for the 55+ community.
URL:https://staging.penderislandchamber.com/event/55-monday-activity-days/2027-01-18/
LOCATION:Community Hall\, 4418 Bedwell Harbour Rd\, Pender Island\, BC\, V0N 2M1\, Canada
END:VEVENT
BEGIN:VEVENT
DTSTART;TZID=America/Vancouver:20270122T100000
DTEND;TZID=America/Vancouver:20270122T130000
DTSTAMP:20260420T115205
CREATED:20260318T231119Z
LAST-MODIFIED:20260409T223056Z
UID:10000597-1800612000-1800622800@staging.penderislandchamber.com
SUMMARY:Community Gathering Lunch
DESCRIPTION:Mondays at the Community Hall. Engaging seniors and friends in our community. Various weekly activities with lunch at 12PM. Check the Pender Post for more details. Mondays at the Community Hall. Engaging seniors and friends in our community. Various weekly activities with lunch at 12PM. Check the Pender Post for more details. Mondays at the Community Hall. Engaging seniors and friends in our community. Various weekly activities with lunch at 12PM. Check the Pender Post for more details. Mondays at the Community Hall. Engaging seniors and friends in our community. Various weekly activities with lunch at 12PM. Check the Pender Post for more details.
URL:https://staging.penderislandchamber.com/event/community-gathering-lunch-2/2027-01-22/
LOCATION:Community Hall\, 4418 Bedwell Harbour Rd\, Pender Island\, BC\, V0N 2M1\, Canada
END:VEVENT
BEGIN:VEVENT
DTSTART;TZID=America/Vancouver:20270125T100000
DTEND;TZID=America/Vancouver:20270125T140000
DTSTAMP:20260420T115205
CREATED:20260318T231337Z
LAST-MODIFIED:20260318T235516Z
UID:10000858-1800871200-1800885600@staging.penderislandchamber.com
SUMMARY:55+ Monday Activity Days
DESCRIPTION:Stay active and social with a variety of activities designed for the 55+ community.
URL:https://staging.penderislandchamber.com/event/55-monday-activity-days/2027-01-25/
LOCATION:Community Hall\, 4418 Bedwell Harbour Rd\, Pender Island\, BC\, V0N 2M1\, Canada
END:VEVENT
BEGIN:VEVENT
DTSTART;TZID=America/Vancouver:20270129T100000
DTEND;TZID=America/Vancouver:20270129T130000
DTSTAMP:20260420T115205
CREATED:20260318T231119Z
LAST-MODIFIED:20260409T223056Z
UID:10000598-1801216800-1801227600@staging.penderislandchamber.com
SUMMARY:Community Gathering Lunch
DESCRIPTION:Mondays at the Community Hall. Engaging seniors and friends in our community. Various weekly activities with lunch at 12PM. Check the Pender Post for more details. Mondays at the Community Hall. Engaging seniors and friends in our community. Various weekly activities with lunch at 12PM. Check the Pender Post for more details. Mondays at the Community Hall. Engaging seniors and friends in our community. Various weekly activities with lunch at 12PM. Check the Pender Post for more details. Mondays at the Community Hall. Engaging seniors and friends in our community. Various weekly activities with lunch at 12PM. Check the Pender Post for more details.
URL:https://staging.penderislandchamber.com/event/community-gathering-lunch-2/2027-01-29/
LOCATION:Community Hall\, 4418 Bedwell Harbour Rd\, Pender Island\, BC\, V0N 2M1\, Canada
END:VEVENT
BEGIN:VEVENT
DTSTART;TZID=America/Vancouver:20270201T100000
DTEND;TZID=America/Vancouver:20270201T140000
DTSTAMP:20260420T115206
CREATED:20260318T231337Z
LAST-MODIFIED:20260318T235516Z
UID:10000859-1801476000-1801490400@staging.penderislandchamber.com
SUMMARY:55+ Monday Activity Days
DESCRIPTION:Stay active and social with a variety of activities designed for the 55+ community.
URL:https://staging.penderislandchamber.com/event/55-monday-activity-days/2027-02-01/
LOCATION:Community Hall\, 4418 Bedwell Harbour Rd\, Pender Island\, BC\, V0N 2M1\, Canada
END:VEVENT
BEGIN:VEVENT
DTSTART;TZID=America/Vancouver:20270205T100000
DTEND;TZID=America/Vancouver:20270205T130000
DTSTAMP:20260420T115206
CREATED:20260318T231119Z
LAST-MODIFIED:20260409T223056Z
UID:10000599-1801821600-1801832400@staging.penderislandchamber.com
SUMMARY:Community Gathering Lunch
DESCRIPTION:Mondays at the Community Hall. Engaging seniors and friends in our community. Various weekly activities with lunch at 12PM. Check the Pender Post for more details. Mondays at the Community Hall. Engaging seniors and friends in our community. Various weekly activities with lunch at 12PM. Check the Pender Post for more details. Mondays at the Community Hall. Engaging seniors and friends in our community. Various weekly activities with lunch at 12PM. Check the Pender Post for more details. Mondays at the Community Hall. Engaging seniors and friends in our community. Various weekly activities with lunch at 12PM. Check the Pender Post for more details.
URL:https://staging.penderislandchamber.com/event/community-gathering-lunch-2/2027-02-05/
LOCATION:Community Hall\, 4418 Bedwell Harbour Rd\, Pender Island\, BC\, V0N 2M1\, Canada
END:VEVENT
BEGIN:VEVENT
DTSTART;TZID=America/Vancouver:20270208T100000
DTEND;TZID=America/Vancouver:20270208T140000
DTSTAMP:20260420T115206
CREATED:20260318T231337Z
LAST-MODIFIED:20260318T235516Z
UID:10000860-1802080800-1802095200@staging.penderislandchamber.com
SUMMARY:55+ Monday Activity Days
DESCRIPTION:Stay active and social with a variety of activities designed for the 55+ community.
URL:https://staging.penderislandchamber.com/event/55-monday-activity-days/2027-02-08/
LOCATION:Community Hall\, 4418 Bedwell Harbour Rd\, Pender Island\, BC\, V0N 2M1\, Canada
END:VEVENT
BEGIN:VEVENT
DTSTART;TZID=America/Vancouver:20270212T100000
DTEND;TZID=America/Vancouver:20270212T130000
DTSTAMP:20260420T115206
CREATED:20260318T231119Z
LAST-MODIFIED:20260409T223056Z
UID:10000600-1802426400-1802437200@staging.penderislandchamber.com
SUMMARY:Community Gathering Lunch
DESCRIPTION:Mondays at the Community Hall. Engaging seniors and friends in our community. Various weekly activities with lunch at 12PM. Check the Pender Post for more details. Mondays at the Community Hall. Engaging seniors and friends in our community. Various weekly activities with lunch at 12PM. Check the Pender Post for more details. Mondays at the Community Hall. Engaging seniors and friends in our community. Various weekly activities with lunch at 12PM. Check the Pender Post for more details. Mondays at the Community Hall. Engaging seniors and friends in our community. Various weekly activities with lunch at 12PM. Check the Pender Post for more details.
URL:https://staging.penderislandchamber.com/event/community-gathering-lunch-2/2027-02-12/
LOCATION:Community Hall\, 4418 Bedwell Harbour Rd\, Pender Island\, BC\, V0N 2M1\, Canada
END:VEVENT
BEGIN:VEVENT
DTSTART;TZID=America/Vancouver:20270215T100000
DTEND;TZID=America/Vancouver:20270215T140000
DTSTAMP:20260420T115206
CREATED:20260318T231337Z
LAST-MODIFIED:20260318T235516Z
UID:10000861-1802685600-1802700000@staging.penderislandchamber.com
SUMMARY:55+ Monday Activity Days
DESCRIPTION:Stay active and social with a variety of activities designed for the 55+ community.
URL:https://staging.penderislandchamber.com/event/55-monday-activity-days/2027-02-15/
LOCATION:Community Hall\, 4418 Bedwell Harbour Rd\, Pender Island\, BC\, V0N 2M1\, Canada
END:VEVENT
BEGIN:VEVENT
DTSTART;TZID=America/Vancouver:20270219T100000
DTEND;TZID=America/Vancouver:20270219T130000
DTSTAMP:20260420T115206
CREATED:20260318T231119Z
LAST-MODIFIED:20260409T223056Z
UID:10000601-1803031200-1803042000@staging.penderislandchamber.com
SUMMARY:Community Gathering Lunch
DESCRIPTION:Mondays at the Community Hall. Engaging seniors and friends in our community. Various weekly activities with lunch at 12PM. Check the Pender Post for more details. Mondays at the Community Hall. Engaging seniors and friends in our community. Various weekly activities with lunch at 12PM. Check the Pender Post for more details. Mondays at the Community Hall. Engaging seniors and friends in our community. Various weekly activities with lunch at 12PM. Check the Pender Post for more details. Mondays at the Community Hall. Engaging seniors and friends in our community. Various weekly activities with lunch at 12PM. Check the Pender Post for more details.
URL:https://staging.penderislandchamber.com/event/community-gathering-lunch-2/2027-02-19/
LOCATION:Community Hall\, 4418 Bedwell Harbour Rd\, Pender Island\, BC\, V0N 2M1\, Canada
END:VEVENT
BEGIN:VEVENT
DTSTART;TZID=America/Vancouver:20270222T100000
DTEND;TZID=America/Vancouver:20270222T140000
DTSTAMP:20260420T115206
CREATED:20260318T231337Z
LAST-MODIFIED:20260318T235516Z
UID:10000862-1803290400-1803304800@staging.penderislandchamber.com
SUMMARY:55+ Monday Activity Days
DESCRIPTION:Stay active and social with a variety of activities designed for the 55+ community.
URL:https://staging.penderislandchamber.com/event/55-monday-activity-days/2027-02-22/
LOCATION:Community Hall\, 4418 Bedwell Harbour Rd\, Pender Island\, BC\, V0N 2M1\, Canada
END:VEVENT
BEGIN:VEVENT
DTSTART;TZID=America/Vancouver:20270226T100000
DTEND;TZID=America/Vancouver:20270226T130000
DTSTAMP:20260420T115206
CREATED:20260318T231119Z
LAST-MODIFIED:20260409T223056Z
UID:10000602-1803636000-1803646800@staging.penderislandchamber.com
SUMMARY:Community Gathering Lunch
DESCRIPTION:Mondays at the Community Hall. Engaging seniors and friends in our community. Various weekly activities with lunch at 12PM. Check the Pender Post for more details. Mondays at the Community Hall. Engaging seniors and friends in our community. Various weekly activities with lunch at 12PM. Check the Pender Post for more details. Mondays at the Community Hall. Engaging seniors and friends in our community. Various weekly activities with lunch at 12PM. Check the Pender Post for more details. Mondays at the Community Hall. Engaging seniors and friends in our community. Various weekly activities with lunch at 12PM. Check the Pender Post for more details.
URL:https://staging.penderislandchamber.com/event/community-gathering-lunch-2/2027-02-26/
LOCATION:Community Hall\, 4418 Bedwell Harbour Rd\, Pender Island\, BC\, V0N 2M1\, Canada
END:VEVENT
BEGIN:VEVENT
DTSTART;TZID=America/Vancouver:20270301T100000
DTEND;TZID=America/Vancouver:20270301T140000
DTSTAMP:20260420T115206
CREATED:20260318T231337Z
LAST-MODIFIED:20260318T235516Z
UID:10000863-1803895200-1803909600@staging.penderislandchamber.com
SUMMARY:55+ Monday Activity Days
DESCRIPTION:Stay active and social with a variety of activities designed for the 55+ community.
URL:https://staging.penderislandchamber.com/event/55-monday-activity-days/2027-03-01/
LOCATION:Community Hall\, 4418 Bedwell Harbour Rd\, Pender Island\, BC\, V0N 2M1\, Canada
END:VEVENT
BEGIN:VEVENT
DTSTART;TZID=America/Vancouver:20270305T100000
DTEND;TZID=America/Vancouver:20270305T130000
DTSTAMP:20260420T115206
CREATED:20260318T231119Z
LAST-MODIFIED:20260409T223056Z
UID:10000603-1804240800-1804251600@staging.penderislandchamber.com
SUMMARY:Community Gathering Lunch
DESCRIPTION:Mondays at the Community Hall. Engaging seniors and friends in our community. Various weekly activities with lunch at 12PM. Check the Pender Post for more details. Mondays at the Community Hall. Engaging seniors and friends in our community. Various weekly activities with lunch at 12PM. Check the Pender Post for more details. Mondays at the Community Hall. Engaging seniors and friends in our community. Various weekly activities with lunch at 12PM. Check the Pender Post for more details. Mondays at the Community Hall. Engaging seniors and friends in our community. Various weekly activities with lunch at 12PM. Check the Pender Post for more details.
URL:https://staging.penderislandchamber.com/event/community-gathering-lunch-2/2027-03-05/
LOCATION:Community Hall\, 4418 Bedwell Harbour Rd\, Pender Island\, BC\, V0N 2M1\, Canada
END:VEVENT
BEGIN:VEVENT
DTSTART;TZID=America/Vancouver:20270308T100000
DTEND;TZID=America/Vancouver:20270308T140000
DTSTAMP:20260420T115206
CREATED:20260318T231337Z
LAST-MODIFIED:20260318T235516Z
UID:10000864-1804500000-1804514400@staging.penderislandchamber.com
SUMMARY:55+ Monday Activity Days
DESCRIPTION:Stay active and social with a variety of activities designed for the 55+ community.
URL:https://staging.penderislandchamber.com/event/55-monday-activity-days/2027-03-08/
LOCATION:Community Hall\, 4418 Bedwell Harbour Rd\, Pender Island\, BC\, V0N 2M1\, Canada
END:VEVENT
BEGIN:VEVENT
DTSTART;TZID=America/Vancouver:20270312T100000
DTEND;TZID=America/Vancouver:20270312T130000
DTSTAMP:20260420T115207
CREATED:20260318T231119Z
LAST-MODIFIED:20260409T223056Z
UID:10000604-1804845600-1804856400@staging.penderislandchamber.com
SUMMARY:Community Gathering Lunch
DESCRIPTION:Mondays at the Community Hall. Engaging seniors and friends in our community. Various weekly activities with lunch at 12PM. Check the Pender Post for more details. Mondays at the Community Hall. Engaging seniors and friends in our community. Various weekly activities with lunch at 12PM. Check the Pender Post for more details. Mondays at the Community Hall. Engaging seniors and friends in our community. Various weekly activities with lunch at 12PM. Check the Pender Post for more details. Mondays at the Community Hall. Engaging seniors and friends in our community. Various weekly activities with lunch at 12PM. Check the Pender Post for more details.
URL:https://staging.penderislandchamber.com/event/community-gathering-lunch-2/2027-03-12/
LOCATION:Community Hall\, 4418 Bedwell Harbour Rd\, Pender Island\, BC\, V0N 2M1\, Canada
END:VEVENT
BEGIN:VEVENT
DTSTART;TZID=America/Vancouver:20270315T100000
DTEND;TZID=America/Vancouver:20270315T140000
DTSTAMP:20260420T115207
CREATED:20260318T231337Z
LAST-MODIFIED:20260318T235516Z
UID:10000865-1805104800-1805119200@staging.penderislandchamber.com
SUMMARY:55+ Monday Activity Days
DESCRIPTION:Stay active and social with a variety of activities designed for the 55+ community.
URL:https://staging.penderislandchamber.com/event/55-monday-activity-days/2027-03-15/
LOCATION:Community Hall\, 4418 Bedwell Harbour Rd\, Pender Island\, BC\, V0N 2M1\, Canada
END:VEVENT
BEGIN:VEVENT
DTSTART;TZID=America/Vancouver:20270319T100000
DTEND;TZID=America/Vancouver:20270319T130000
DTSTAMP:20260420T115207
CREATED:20260318T231119Z
LAST-MODIFIED:20260409T223056Z
UID:10000605-1805450400-1805461200@staging.penderislandchamber.com
SUMMARY:Community Gathering Lunch
DESCRIPTION:Mondays at the Community Hall. Engaging seniors and friends in our community. Various weekly activities with lunch at 12PM. Check the Pender Post for more details. Mondays at the Community Hall. Engaging seniors and friends in our community. Various weekly activities with lunch at 12PM. Check the Pender Post for more details. Mondays at the Community Hall. Engaging seniors and friends in our community. Various weekly activities with lunch at 12PM. Check the Pender Post for more details. Mondays at the Community Hall. Engaging seniors and friends in our community. Various weekly activities with lunch at 12PM. Check the Pender Post for more details.
URL:https://staging.penderislandchamber.com/event/community-gathering-lunch-2/2027-03-19/
LOCATION:Community Hall\, 4418 Bedwell Harbour Rd\, Pender Island\, BC\, V0N 2M1\, Canada
END:VEVENT
BEGIN:VEVENT
DTSTART;TZID=America/Vancouver:20270322T100000
DTEND;TZID=America/Vancouver:20270322T140000
DTSTAMP:20260420T115207
CREATED:20260318T231337Z
LAST-MODIFIED:20260318T235516Z
UID:10000866-1805709600-1805724000@staging.penderislandchamber.com
SUMMARY:55+ Monday Activity Days
DESCRIPTION:Stay active and social with a variety of activities designed for the 55+ community.
URL:https://staging.penderislandchamber.com/event/55-monday-activity-days/2027-03-22/
LOCATION:Community Hall\, 4418 Bedwell Harbour Rd\, Pender Island\, BC\, V0N 2M1\, Canada
END:VEVENT
BEGIN:VEVENT
DTSTART;TZID=America/Vancouver:20270326T100000
DTEND;TZID=America/Vancouver:20270326T130000
DTSTAMP:20260420T115207
CREATED:20260318T231119Z
LAST-MODIFIED:20260409T223056Z
UID:10000606-1806055200-1806066000@staging.penderislandchamber.com
SUMMARY:Community Gathering Lunch
DESCRIPTION:Mondays at the Community Hall. Engaging seniors and friends in our community. Various weekly activities with lunch at 12PM. Check the Pender Post for more details. Mondays at the Community Hall. Engaging seniors and friends in our community. Various weekly activities with lunch at 12PM. Check the Pender Post for more details. Mondays at the Community Hall. Engaging seniors and friends in our community. Various weekly activities with lunch at 12PM. Check the Pender Post for more details. Mondays at the Community Hall. Engaging seniors and friends in our community. Various weekly activities with lunch at 12PM. Check the Pender Post for more details.
URL:https://staging.penderislandchamber.com/event/community-gathering-lunch-2/2027-03-26/
LOCATION:Community Hall\, 4418 Bedwell Harbour Rd\, Pender Island\, BC\, V0N 2M1\, Canada
END:VEVENT
BEGIN:VEVENT
DTSTART;TZID=America/Vancouver:20270329T100000
DTEND;TZID=America/Vancouver:20270329T140000
DTSTAMP:20260420T115207
CREATED:20260318T231337Z
LAST-MODIFIED:20260318T235516Z
UID:10000867-1806314400-1806328800@staging.penderislandchamber.com
SUMMARY:55+ Monday Activity Days
DESCRIPTION:Stay active and social with a variety of activities designed for the 55+ community.
URL:https://staging.penderislandchamber.com/event/55-monday-activity-days/2027-03-29/
LOCATION:Community Hall\, 4418 Bedwell Harbour Rd\, Pender Island\, BC\, V0N 2M1\, Canada
END:VEVENT
BEGIN:VEVENT
DTSTART;TZID=America/Vancouver:20270402T100000
DTEND;TZID=America/Vancouver:20270402T130000
DTSTAMP:20260420T115207
CREATED:20260318T231119Z
LAST-MODIFIED:20260409T223056Z
UID:10000607-1806660000-1806670800@staging.penderislandchamber.com
SUMMARY:Community Gathering Lunch
DESCRIPTION:Mondays at the Community Hall. Engaging seniors and friends in our community. Various weekly activities with lunch at 12PM. Check the Pender Post for more details. Mondays at the Community Hall. Engaging seniors and friends in our community. Various weekly activities with lunch at 12PM. Check the Pender Post for more details. Mondays at the Community Hall. Engaging seniors and friends in our community. Various weekly activities with lunch at 12PM. Check the Pender Post for more details. Mondays at the Community Hall. Engaging seniors and friends in our community. Various weekly activities with lunch at 12PM. Check the Pender Post for more details.
URL:https://staging.penderislandchamber.com/event/community-gathering-lunch-2/2027-04-02/
LOCATION:Community Hall\, 4418 Bedwell Harbour Rd\, Pender Island\, BC\, V0N 2M1\, Canada
END:VEVENT
BEGIN:VEVENT
DTSTART;TZID=America/Vancouver:20270405T100000
DTEND;TZID=America/Vancouver:20270405T140000
DTSTAMP:20260420T115207
CREATED:20260318T231337Z
LAST-MODIFIED:20260318T235516Z
UID:10000868-1806919200-1806933600@staging.penderislandchamber.com
SUMMARY:55+ Monday Activity Days
DESCRIPTION:Stay active and social with a variety of activities designed for the 55+ community.
URL:https://staging.penderislandchamber.com/event/55-monday-activity-days/2027-04-05/
LOCATION:Community Hall\, 4418 Bedwell Harbour Rd\, Pender Island\, BC\, V0N 2M1\, Canada
END:VEVENT
END:VCALENDAR